BEGIN:VCALENDAR
VERSION:2.0
PRODID:-//wp-events-plugin.com//7.2.3.1//EN
TZID:Europe/London
X-WR-TIMEZONE:Europe/London
BEGIN:VEVENT
UID:187@sh4.org.uk
DTSTART;TZID=Europe/London:20180919T193000
DTEND;TZID=Europe/London:20180919T230000
DTSTAMP:20181113T200046Z
URL:https://www.sh4.org.uk/events/hash-1161/
SUMMARY:South Hams H4 Hash 1161 - Churston Manor
DESCRIPTION:\n\n\n\n\n\n\n\n\n\n\n\nThe Words according to Barbie\n\n\n\n\n
 \n\n\n\n\n\n\n\n\n\n\n\n\n\n\nThe words for Churston Manor Hash according 
 to Barbie.\nTip: to get the best from these interactive words\, click on 
 the hyperlinks in the text.\nHare U-Bend Over had selected a spicing-hot 
 spot for our Churston Hash. Just before we set off\, the Churston Manor ha
 d featured on BBC Spotlight after being criticised for its fire safety. 
 So it wasn’t so much a circle up as a RING OF FIREthat we entered to li
 sten to GM Overshot’s latest hysterical notes\, which centred on one o
 f Agatha Christies WHO DUNNIT?S But Quasimodo up in the church tower was
 n’t listening and he started up such a  ding-dong that none of us coul
 d hear the GM.\nAll I picked up was that a certain celebrity was Presid
 ent of the local golf club\n\nPugsley told us next week’s hash is a Grid
  Reference\, or something or nothing. But here’s a clue: “I saw Essua 
 sitting on a see-saw” and it’s nowhere close to Nassua.\nAnyway\, U-Be
 nd told us about the hash and had a bit of guess about how long the variou
 s options might be. Off we went.\n“Are you?”\n“On on!”\n“Are you
 ?”\n“Lost” that was Piddler on the Hoof’s contribution to the ni
 ght. Flage-no-lay’s dog led a posse of hashers through the dark\, dark
  woods. On the subject of dark Derrick has been on the carrot diet again
  and he went round without a torch. Just Prick waited for Traffic Jam 
 who had taken a wrong turn. He waited\, and he waited\, and waited and….
 .Trafficwas back at the pub.\nBack at the Hot Spot Piltdown Man’s dog 
 was happily licking his head while Garry Glitter looked on with her draw
 ers on inside-out. WE all cheered to the news that Boaty McBoatFace has 
 got himself engaged to part-time Harriet\, Bedbug!\nU-bend got a down do
 wn for 400 Hashes and for being the Hare\nSorry if I have left out anythin
 g\, the RA’s notes were written on a leaf which had biodegraded by the t
 ime I got home.\nOn on to Essua.\n\n\n\n\n\n\n - \n\n\n\n\n\n\n\n\n\n\n\n
 The Words according to Barbie\n\n\n\n\n\n\n\n\n\n\n\n\n\n\n\n\n\n\n\nThe w
 ords for Churston Manor Hash according to Barbie.\nTip: to get the best f
 rom these interactive words\, click on the hyperlinks in the text.\nHare U
 -Bend Over had selected a spicing-hot spot for our Churston Hash. Just be
 fore we set off\, the Churston Manor had featured on BBC Spotlight after
  being criticised for its fire safety. So it wasn’t so much a circle up 
 as a RING OF FIREthat we entered to listen to GM Overshot’s latest hy
 sterical notes\, which centred on one of Agatha Christies WHO DUNNIT?S B
 ut Quasimodo up in the church tower wasn’t listening and he started up s
 uch a  ding-dong that none of us could hear the GM.\nAll I picked up wa
 s that a certain celebrity was President of the local golf club\n\nPugsl
 ey told us next week’s hash is a Grid Reference\, or something or nothin
 g. But here’s a clue: “I saw Essua sitting on a see-saw” and it’s 
 nowhere close to Nassua.\nAnyway\, U-Bend told us about the hash and had a
  bit of guess about how long the various options might be. Off we went.\n
 “Are you?”\n“On on!”\n“Are you?”\n“Lost” that was Piddler
  on the Hoof’s contribution to the night. Flage-no-lay’s dog led a 
 posse of hashers through the dark\, dark woods. On the subject of dark De
 rrick has been on the carrot diet again and he went round without a torch
 . Just Prick waited for Traffic Jam who had taken a wrong turn. He wai
 ted\, and he waited\, and waited and…..Trafficwas back at the pub.\nBack
  at the Hot Spot Piltdown Man’s dog was happily licking his head while
  Garry Glitter looked on with her drawers on inside-out. WE all cheered 
 to the news that Boaty McBoatFace has got himself engaged to part-time H
 arriet\, Bedbug!\nU-bend got a down down for 400 Hashes and for being th
 e Hare\nSorry if I have left out anything\, the RA’s notes were written 
 on a leaf which had biodegraded by the time I got home.\nOn on to Essua.\
 n\n\n\n\n\n\n
CATEGORIES:Hash Trails
LOCATION:Churston Manor Church Road\, Churston Ferrers\, Devon\, TQ5 0JE
GEO:50.39765260222762;-3.5434390846558017
X-APPLE-STRUCTURED-LOCATION;VALUE=URI;X-ADDRESS=Church Road\, Churston Ferr
 ers\, Devon\, TQ5 0JE\, United Kingdom;X-APPLE-RADIUS=100;X-TITLE=Churston
  Manor:geo:50.39765260222762,-3.5434390846558017
END:VEVENT
BEGIN:VTIMEZONE
TZID:Europe/London
X-LIC-LOCATION:Europe/London
BEGIN:DAYLIGHT
DTSTART:20180325T020000
TZOFFSETFROM:+0000
TZOFFSETTO:+0100
TZNAME:BST
END:DAYLIGHT
END:VTIMEZONE
END:VCALENDAR