BEGIN:VCALENDAR
VERSION:2.0
PRODID:-//wp-events-plugin.com//7.2.3.1//EN
TZID:Europe/London
X-WR-TIMEZONE:Europe/London
BEGIN:VEVENT
UID:188@sh4.org.uk
DTSTART;TZID=Europe/London:20180926T193000
DTEND;TZID=Europe/London:20180926T230000
DTSTAMP:20181113T195137Z
URL:https://www.sh4.org.uk/events/hash-1162/
SUMMARY:South Hams H4 Hash 1162 - East Soar National Trust Car Park
DESCRIPTION:On Down The Old Inn\, Malborough\n\nhttps://www.theoldinndevon.
 com/en-GB\n\n\n\n\n\n\n\n\n\n\n\n\nThe Words according to Ahso\n\n\n\n\n\n
 \n\n\n\n\n\n\n\n\n\n\n\n\n\nOur first truly Autumnal hash of the year\, an
 d the sun was setting in the sky. Or was it Rubbery in his yellow t-shirt?
  After getting pissed on by Spot the dog and a quick game of Pass The Pant
 s with Barbie\, fresh from the Labour conference\, we were off.\n\nI'd lik
 e to say we disappeared into the sunset\, but it was in fact the opposite 
 direction. Nevertheless\, it was glorious. I trotted with Spotty Botty and
  Badger for a while\, but I couldn't keep up with those speedsters\, so dr
 opped back into the lovely knitting circle whilst Spotty became an FRB and
  did all the short checks.\n\n(Goolie was briefly astonished that Ging-Gan
 g might have made hash history and done one\, but turns out she didn't) Do
 ubt was cast on Spotty's ability to lead us when she expressed delight at 
 the beauty of the sun when it was by now\, in fact\, the full moon. And it
  wasn't Rubbery's before you ask. Whatever celestial body it was\, it wasn
 't bright enough to prevent Running Late and Willy Waiver from mistaking a
  herd of cows for a wall.\n\nBack in the pub\, it was revealed that new ha
 sher Norman had turned down the opportunity of a hot tub and massage to jo
 in us on tonights' hash. Damned fool!\n\nWe sang Happy Birthday to Knocker
 s in traditional hash fashion and a newby hasher was named 'Badcock'.\n\nD
 own downs to them and also to hares Morticia and Gomez (always love their 
 trails)\, Barbie for being in labour\, and I think to Rock Hard Stiffy bec
 ause he has a face?\n\nOn On to Packhorse\, South Brent!\n\n\n\n\n\n\n - O
 n Down The Old Inn\, Malborough\n\nhttps://www.theoldinndevon.com/en-GB\n\
 n\n\n\n\n\n\n\n\n\n\n\nThe Words according to Ahso\n\n\n\n\n\n\n\n\n\n\n\n
 \n\n\n\n\n\n\n\nOur first truly Autumnal hash of the year\, and the sun wa
 s setting in the sky. Or was it Rubbery in his yellow t-shirt? After getti
 ng pissed on by Spot the dog and a quick game of Pass The Pants with Barbi
 e\, fresh from the Labour conference\, we were off.\n\nI'd like to say we 
 disappeared into the sunset\, but it was in fact the opposite direction. N
 evertheless\, it was glorious. I trotted with Spotty Botty and Badger for 
 a while\, but I couldn't keep up with those speedsters\, so dropped back i
 nto the lovely knitting circle whilst Spotty became an FRB and did all the
  short checks.\n\n(Goolie was briefly astonished that Ging-Gang might have
  made hash history and done one\, but turns out she didn't) Doubt was cast
  on Spotty's ability to lead us when she expressed delight at the beauty o
 f the sun when it was by now\, in fact\, the full moon. And it wasn't Rubb
 ery's before you ask. Whatever celestial body it was\, it wasn't bright en
 ough to prevent Running Late and Willy Waiver from mistaking a herd of cow
 s for a wall.\n\nBack in the pub\, it was revealed that new hasher Norman 
 had turned down the opportunity of a hot tub and massage to join us on ton
 ights' hash. Damned fool!\n\nWe sang Happy Birthday to Knockers in traditi
 onal hash fashion and a newby hasher was named 'Badcock'.\n\nDown downs to
  them and also to hares Morticia and Gomez (always love their trails)\, Ba
 rbie for being in labour\, and I think to Rock Hard Stiffy because he has 
 a face?\n\nOn On to Packhorse\, South Brent!\n\n\n\n\n\n\n
CATEGORIES:Hash Trails
LOCATION:East Soar National Trust Car Park East Soar\, Soar\, Malborough\, 
 Devon\, TQ7 3DR
GEO:50.22345995687946;-3.8053671588135103
X-APPLE-STRUCTURED-LOCATION;VALUE=URI;X-ADDRESS=East Soar\, Soar\, Malborou
 gh\, Devon\, TQ7 3DR\, United Kingdom;X-APPLE-RADIUS=100;X-TITLE=East Soar
  National Trust Car Park:geo:50.22345995687946,-3.8053671588135103
END:VEVENT
BEGIN:VTIMEZONE
TZID:Europe/London
X-LIC-LOCATION:Europe/London
BEGIN:DAYLIGHT
DTSTART:20180325T020000
TZOFFSETFROM:+0000
TZOFFSETTO:+0100
TZNAME:BST
END:DAYLIGHT
END:VTIMEZONE
END:VCALENDAR