BEGIN:VCALENDAR
VERSION:2.0
PRODID:-//wp-events-plugin.com//7.2.3.1//EN
TZID:Europe/London
X-WR-TIMEZONE:Europe/London
BEGIN:VEVENT
UID:194@sh4.org.uk
DTSTART;TZID=Europe/London:20181107T193000
DTEND;TZID=Europe/London:20181107T230000
DTSTAMP:20181113T201512Z
URL:https://www.sh4.org.uk/events/hash-1168/
SUMMARY:South Hams H4 Hash 1168 - Journey's End
DESCRIPTION:Goolie's Bangers will be on display at halfway Beer Stop\n\n&nb
 sp\;\n\n\n\n\n\n\n\n\n\n\n\n\nThe Words Hash 1168 according to Dulux\n\n\n
 \n\n\n\n\n\n\n\n\n\n\n\n\n\n\n\n\n\n\n\nThe Fifth of November\n\nRemember\
 , remember!\nThe fifth of November\,\nThe Gunpowder treason and plot\;\nI 
 know of no reason\nWhy the Gunpowder treason\nShould ever be forgot!\nGuy 
 Fawkes and his companions\nDid the scheme contrive\,\nTo blow the King and
  Parliament\nAll up alive.\n\n\nTwas a chilly autumnal eve when the plotte
 rs circled up in deepest darkest South Hams. Grand Master Overshot called 
 us all to hush and listen to the plan. He had covered his tracks already b
 y saying he was going “flashing”.\n\nGoolie and Vinders had braved the
  elements to set secret routes\, with dots and crosses to evade and confus
 e any followers. Off they sped Longs 6 mile Shorts 3 mile and a separate d
 issenting walking group with many members\, headed straight to the coast\,
  obviously meant to distract any following authorities loyal to the King.\
 n\nGuido Goolie Fawkes’ had plotted and planned and created a bonny the 
 size of parliament. Aided by his collaborators Broken Man and Rubbery set 
 the blaze. Meanwhile hashers were arriving back to see the inferno spectac
 le and were cheered with vittles of mulled wine and chocolate.\n\nRe-entry
  stepped up to aid Guido Fawkes with his display of splendid fireworks. Hu
 rrah Hurrah Whizz Bang cough cough….\n\nOff to the Journeys End for down
 s downs to celebrate our history\, the survival of the King in the failed 
 gunpowder plot of 1605 or the attempted blowing up of the House of Lords.\
 n\nRA Re-entry declared demeanours of the night. Barbarella and Lowtarse h
 ad missed the party again and so had Jyde\, and we know how much he likes 
 a party! A community rendition of happy birthday was given to Pimples and 
 it was Piddlers BIG birthday last week but also revealed Piddler the fiddl
 er has a\ntiddler.\n\nBarbarella hid Barbies torch. Dead Man Walking was s
 howing his feminine side by parading in a fur coat. Ging Gang confirmed th
 at the pampas grass growing does mean she’s a chic swinger darling. Hekk
 el was seen wearing her sons skiing jacket the whole hash but claimed she 
 doesn’t move fast enough to get hot.\n\nA re-welcome to Readymix and Har
 dcore Prawn and a comeback to No Nuts. A rowdy crowd naming of Homo Erectu
 s.\n\nDown Downs awarded Goolie\, Vinders\, Pimples\, Piddler\, Dead Man W
 alking and Barbie.\n\nBIG thank you to GG &amp\; G for hospitality and org
 anising the Bonfire Night Extravaganza.\n\nGuy Fawkes "the last man to ent
 er Parliament with honest intentions"\n\nOnOn Dulux\n\n\n\n\n\n\n - Goolie
 's Bangers will be on display at halfway Beer Stop\n\n&nbsp\;\n\n\n\n\n\n\
 n\n\n\n\n\n\nThe Words Hash 1168 according to Dulux\n\n\n\n\n\n\n\n\n\n\n\
 n\n\n\n\n\n\n\n\n\n\n\nThe Fifth of November\n\nRemember\, remember!\nThe 
 fifth of November\,\nThe Gunpowder treason and plot\;\nI know of no reason
 \nWhy the Gunpowder treason\nShould ever be forgot!\nGuy Fawkes and his co
 mpanions\nDid the scheme contrive\,\nTo blow the King and Parliament\nAll 
 up alive.\n\n\nTwas a chilly autumnal eve when the plotters circled up in 
 deepest darkest South Hams. Grand Master Overshot called us all to hush an
 d listen to the plan. He had covered his tracks already by saying he was g
 oing “flashing”.\n\nGoolie and Vinders had braved the elements to set 
 secret routes\, with dots and crosses to evade and confuse any followers. 
 Off they sped Longs 6 mile Shorts 3 mile and a separate dissenting walking
  group with many members\, headed straight to the coast\, obviously meant 
 to distract any following authorities loyal to the King.\n\nGuido Goolie F
 awkes’ had plotted and planned and created a bonny the size of parliamen
 t. Aided by his collaborators Broken Man and Rubbery set the blaze. Meanwh
 ile hashers were arriving back to see the inferno spectacle and were cheer
 ed with vittles of mulled wine and chocolate.\n\nRe-entry stepped up to ai
 d Guido Fawkes with his display of splendid fireworks. Hurrah Hurrah Whizz
  Bang cough cough….\n\nOff to the Journeys End for downs downs to celebr
 ate our history\, the survival of the King in the failed gunpowder plot of
  1605 or the attempted blowing up of the House of Lords.\n\nRA Re-entry de
 clared demeanours of the night. Barbarella and Lowtarse had missed the par
 ty again and so had Jyde\, and we know how much he likes a party! A commun
 ity rendition of happy birthday was given to Pimples and it was Piddlers B
 IG birthday last week but also revealed Piddler the fiddler has a\ntiddler
 .\n\nBarbarella hid Barbies torch. Dead Man Walking was showing his femini
 ne side by parading in a fur coat. Ging Gang confirmed that the pampas gra
 ss growing does mean she’s a chic swinger darling. Hekkel was seen weari
 ng her sons skiing jacket the whole hash but claimed she doesn’t move fa
 st enough to get hot.\n\nA re-welcome to Readymix and Hardcore Prawn and a
  comeback to No Nuts. A rowdy crowd naming of Homo Erectus.\n\nDown Downs 
 awarded Goolie\, Vinders\, Pimples\, Piddler\, Dead Man Walking and Barbie
 .\n\nBIG thank you to GG &amp\; G for hospitality and organising the Bonfi
 re Night Extravaganza.\n\nGuy Fawkes "the last man to enter Parliament wit
 h honest intentions"\n\nOnOn Dulux\n\n\n\n\n\n\n
CATEGORIES:Hash Trails
LOCATION:Journey's End The Journey's End\, Ringmore\, Devon\, TQ7 4HL
GEO:50.297865;-3.895147
X-APPLE-STRUCTURED-LOCATION;VALUE=URI;X-ADDRESS=The Journey's End\, Ringmor
 e\, Devon\, TQ7 4HL\, United Kingdom;X-APPLE-RADIUS=100;X-TITLE=Journey's 
 End:geo:50.297865,-3.895147
END:VEVENT
BEGIN:VTIMEZONE
TZID:Europe/London
X-LIC-LOCATION:Europe/London
BEGIN:STANDARD
DTSTART:20181028T010000
TZOFFSETFROM:+0100
TZOFFSETTO:+0000
TZNAME:GMT
END:STANDARD
END:VTIMEZONE
END:VCALENDAR