BEGIN:VCALENDAR
VERSION:2.0
PRODID:-//wp-events-plugin.com//7.2.3.1//EN
TZID:Europe/London
X-WR-TIMEZONE:Europe/London
BEGIN:VEVENT
UID:195@sh4.org.uk
DTSTART;TZID=Europe/London:20181114T193000
DTEND;TZID=Europe/London:20181114T230000
DTSTAMP:20191112T215151Z
URL:https://www.sh4.org.uk/events/hash-1169-agpu/
SUMMARY:South Hams H4 Hash 1169 AGPU - Dolphin Inn - Kingston
DESCRIPTION:\n\n\n\n\n\n\n\n\n\n\n\nThe Words Hash 1168 according to\nDead 
 Man Walking\n\n\n\n\n\n\n\n\n\n\n\n\n\n\n\n\n\n\n\n\n\nAct one\n\nBestridi
 ng the narrow world like a colossus\, Goolius Ceasar held forth\, whilst w
 e petty men of the hash didst peep about in our cups. "Immortal hash\, twa
 s long as it was short\, checks we had none\, arrows a comfort as cold por
 ridge\, the untimely dishclout\,  sent by as if by Indies from Jamaica\, 
 twas  of his own accord.\n\nWhat a pair of spectacles is here! Twin faeri
 e queens\, daughters of the fiery Oberon Who wouldst with lightning  blas
 t our very buttocks for withall the heinous trespass of banks whereon the 
 wild thyme grows.\n\nOh what men do ". A slipper and subtle knave.  But w
 hich parkest to so discomfort the bearers of The sweetest milk that ere be
  found\, the fairest village in the land\, sweet Kingston. A mermaid on a 
 dolphins back.\n\nSweet Pucksley.  Darling Cupid. Love looks not with the
  eyes but with the mind. Crossed cruelly\, when all knowest he should put 
 a girdle round the earth in forty minutes. Falstaffian belly?\, a curse up
 on thee\, Brutus\, thou art a dead man both in name and nature.\n\nDidst c
 ast aspersions upon my camper chariot of fire. Malvolio in Piddleresqe aff
 ection didst dance cross revellers\, nimble with airy gait\, cross gartere
 d and yellow stockinged to his noble kneepads\, imagination all compact\, 
 as if to cry "Infamy\, infamy they've all got it in for me"\n\nWhat Angel 
 wakes me from my flowery bed? Head of an ass\, naked body of a hasher. And
  thus didst sweet Titania roll home in her cups\, and wakest next morn " I
  have have had a dream\, past the the wit of man to say what dream it was\
 , or was I just too pissed to remember"\n\nThe fair Barbarella and lady lo
 wtarse\, in Love's Hashers Lost. The extended version.  Enter Romeo (Dimm
 ers).  But soft what light upon the window breaks\, it is the east and Ju
 liet (Marty) is the sun. She speaks. " well met my love\, I'll be down in 
 a mo\, just in the middle of a blue rinse. And anyway I did the long"\n\nB
 eauteous Bellendius cried out forlorn. " now is the winter of my disconten
 t made muddy by all this ruddy rain and just look at all those blobs" And 
 so tiptoed cross the banks of rue\, the sour herbs of grace. \n\nIf we sh
 adows have offended\, then just sucketh it up. \n\nDMW\n\nPs. If you don'
 t understand any of Overshot does and he will explain it all. :-)\nDown do
 wns and players\nFair Marty. \nCursed Lazy git. \nTraffic warden U Bend.
  \nBeauteous Bellendius. \nPucksley. \n\n\n\n\n\n\n\nIt's The AGPU so a
  shorter hash tonight and back to the On Down for Hash Annual General Meet
 ing in The Village Hall (opposite pub) plus Food and Beer! - \n\n\n\n\n\n\
 n\n\n\n\n\nThe Words Hash 1168 according to\nDead Man Walking\n\n\n\n\n\n\
 n\n\n\n\n\n\n\n\n\n\n\n\n\n\n\nAct one\n\nBestriding the narrow world like
  a colossus\, Goolius Ceasar held forth\, whilst we petty men of the hash 
 didst peep about in our cups. "Immortal hash\, twas long as it was short\,
  checks we had none\, arrows a comfort as cold porridge\, the untimely dis
 hclout\,  sent by as if by Indies from Jamaica\, twas  of his own accord
 .\n\nWhat a pair of spectacles is here! Twin faerie queens\, daughters of 
 the fiery Oberon Who wouldst with lightning  blast our very buttocks for 
 withall the heinous trespass of banks whereon the wild thyme grows.\n\nOh 
 what men do ". A slipper and subtle knave.  But which parkest to so disco
 mfort the bearers of The sweetest milk that ere be found\, the fairest vil
 lage in the land\, sweet Kingston. A mermaid on a dolphins back.\n\nSweet 
 Pucksley.  Darling Cupid. Love looks not with the eyes but with the mind.
  Crossed cruelly\, when all knowest he should put a girdle round the earth
  in forty minutes. Falstaffian belly?\, a curse upon thee\, Brutus\, thou 
 art a dead man both in name and nature.\n\nDidst cast aspersions upon my c
 amper chariot of fire. Malvolio in Piddleresqe affection didst dance cross
  revellers\, nimble with airy gait\, cross gartered and yellow stockinged 
 to his noble kneepads\, imagination all compact\, as if to cry "Infamy\, i
 nfamy they've all got it in for me"\n\nWhat Angel wakes me from my flowery
  bed? Head of an ass\, naked body of a hasher. And thus didst sweet Titani
 a roll home in her cups\, and wakest next morn " I have have had a dream\,
  past the the wit of man to say what dream it was\, or was I just too piss
 ed to remember"\n\nThe fair Barbarella and lady lowtarse\, in Love's Hashe
 rs Lost. The extended version.  Enter Romeo (Dimmers).  But soft what li
 ght upon the window breaks\, it is the east and Juliet (Marty) is the sun.
  She speaks. " well met my love\, I'll be down in a mo\, just in the middl
 e of a blue rinse. And anyway I did the long"\n\nBeauteous Bellendius crie
 d out forlorn. " now is the winter of my discontent made muddy by all this
  ruddy rain and just look at all those blobs" And so tiptoed cross the ban
 ks of rue\, the sour herbs of grace. \n\nIf we shadows have offended\, th
 en just sucketh it up. \n\nDMW\n\nPs. If you don't understand any of Over
 shot does and he will explain it all. :-)\nDown downs and players\nFair Ma
 rty. \nCursed Lazy git. \nTraffic warden U Bend. \nBeauteous Bellendius
 . \nPucksley. \n\n\n\n\n\n\n\nIt's The AGPU so a shorter hash tonight an
 d back to the On Down for Hash Annual General Meeting in The Village Hall 
 (opposite pub) plus Food and Beer!
CATEGORIES:Hash Trails
LOCATION:Dolphin Inn - Kingston The Dolphin\, Kingston\, Devon\, TQ7 4QE
GEO:50.314222;-3.91746
X-APPLE-STRUCTURED-LOCATION;VALUE=URI;X-ADDRESS=The Dolphin\, Kingston\, De
 von\, TQ7 4QE\, United Kingdom;X-APPLE-RADIUS=100;X-TITLE=Dolphin Inn - Ki
 ngston:geo:50.314222,-3.91746
END:VEVENT
BEGIN:VTIMEZONE
TZID:Europe/London
X-LIC-LOCATION:Europe/London
BEGIN:STANDARD
DTSTART:20181028T010000
TZOFFSETFROM:+0100
TZOFFSETTO:+0000
TZNAME:GMT
END:STANDARD
END:VTIMEZONE
END:VCALENDAR