BEGIN:VCALENDAR
VERSION:2.0
PRODID:-//wp-events-plugin.com//7.2.3.1//EN
TZID:Europe/London
X-WR-TIMEZONE:Europe/London
BEGIN:VEVENT
UID:196@sh4.org.uk
DTSTART;TZID=Europe/London:20181121T193000
DTEND;TZID=Europe/London:20181121T230000
DTSTAMP:20191112T215057Z
URL:https://www.sh4.org.uk/events/hash-1170/
SUMMARY:South Hams H4 Hash 1170 - Hare's House - Blackadon Barns
DESCRIPTION:\n\n\n\n\n\n\n\n\n\n\n\nThe Words Hash 1170 according to\nFlage
 -No-Lay\n\n\n\n\n\n\n\n\n\n\n\n\n\n\n\n\n\n\n\nWe circled up at Blackadon 
 Barn's\, in good number for another cold\, dark (and at times wet) wasted
  Wednesday night. Several virgins were welcomed to the hash and two\, only
  two! Plympton hashers.\n\nWe were encouraged to stick together on the moo
 r and look after each other\, causing much mutterings of who are you runni
 ng with\, are you lonesome tonight? We were well looked after with brave h
 ashers facing the elements to keep us on course\, they risked the cold for
  us all and (in Py’s case) were well rewarded with kisses. The route was
  well-marked\, the conversations jolly\, all I needed was the rain to make
  it the perfect hashing experience\n\nBack at the Barn having enjoyed food
  and beer (thank you to the hosts and the servers) Elvis again took the st
 and and asked for a little less conversation as he bemoaned becoming Tor's
  newest chew toy\, or teddy bear. This was the latest excuse for not winni
 ng the hash\, they are becoming more inventive\, with Elvis/Overshot havin
 g to admit all right\, ok you win.\n\nWe were urged to take advantage of S
 H4's Black Friday sale where half price membership would be available to a
 ll who met the generous terms as long as they tracked down Dimwit in perso
 n. We were left all shook up when we realised that members were not eligib
 le\, and the offer not open to Devon residents\, so cruel-don’t be cruel
 .\n\nWe sang Happy Birthday to Py for her 60th\, to celebrate the wonder o
 f you and to give you a big hunk of love. Rent Boy was also serenaded\, an
 d Vindaloo-in case Overshot dressing up for her was not enough. Elvis’s 
 reappearance was explained as a homage to the death of the family’s pet 
 mouse\, Elvis Junior\, cruelly caught in a trap.\n\nThe serendipity was sh
 ared of Py’s birthday not being on Overshot’s anniversary\, or his dau
 ghter’s birthday\, but instead being when Jailhouse Rock was number one.
 \n\nAs one of the games masters for the weekend I declare the season open\
 , the hasher who guesses nearest to the number of Elvis title within the
  words this week gets a prize-to be claimed at the weekend\, I will want t
 o see your workings out!!!\n\nTo the admonishments and down-downs:\n\n 	Ma
 rty was shamed for offences against hashing\n 	Bee-flicker for pushing Har
 riet’s into puddles\n 	Willy Waiver and Just Horny for additional mileag
 e\n 	Bit of Ruff for making it home\n 	Re-entry’s Mum\, kindly helped by
  Just Horny\n 	The Hares\, including Jyde for co-haring\n 	The Birthday bo
 y and girls\, girls\, girls\n\nOn On to Dartmoor Training Centre this week
 end and Shaugh Prior next Wednesday\, Flage-no-lay\n\n\n\n\n\n\n\nHare's B
 irthday Hash\n\nfood and pay bar\n\n&nbsp\; - \n\n\n\n\n\n\n\n\n\n\n\nThe 
 Words Hash 1170 according to\nFlage-No-Lay\n\n\n\n\n\n\n\n\n\n\n\n\n\n\n\n
 \n\n\n\nWe circled up at Blackadon Barn's\, in good number for another co
 ld\, dark (and at times wet) wasted Wednesday night. Several virgins were 
 welcomed to the hash and two\, only two! Plympton hashers.\n\nWe were enco
 uraged to stick together on the moor and look after each other\, causing m
 uch mutterings of who are you running with\, are you lonesome tonight? We 
 were well looked after with brave hashers facing the elements to keep us o
 n course\, they risked the cold for us all and (in Py’s case) were well 
 rewarded with kisses. The route was well-marked\, the conversations jolly\
 , all I needed was the rain to make it the perfect hashing experience\n\nB
 ack at the Barn having enjoyed food and beer (thank you to the hosts and t
 he servers) Elvis again took the stand and asked for a little less convers
 ation as he bemoaned becoming Tor's newest chew toy\, or teddy bear. This 
 was the latest excuse for not winning the hash\, they are becoming more in
 ventive\, with Elvis/Overshot having to admit all right\, ok you win.\n\nW
 e were urged to take advantage of SH4's Black Friday sale where half price
  membership would be available to all who met the generous terms as long a
 s they tracked down Dimwit in person. We were left all shook up when we re
 alised that members were not eligible\, and the offer not open to Devon re
 sidents\, so cruel-don’t be cruel.\n\nWe sang Happy Birthday to Py for h
 er 60th\, to celebrate the wonder of you and to give you a big hunk of lov
 e. Rent Boy was also serenaded\, and Vindaloo-in case Overshot dressing up
  for her was not enough. Elvis’s reappearance was explained as a homage 
 to the death of the family’s pet mouse\, Elvis Junior\, cruelly caught i
 n a trap.\n\nThe serendipity was shared of Py’s birthday not being on Ov
 ershot’s anniversary\, or his daughter’s birthday\, but instead being 
 when Jailhouse Rock was number one.\n\nAs one of the games masters for the
  weekend I declare the season open\, the hasher who guesses nearest to t
 he number of Elvis title within the words this week gets a prize-to be cla
 imed at the weekend\, I will want to see your workings out!!!\n\nTo the ad
 monishments and down-downs:\n\n 	Marty was shamed for offences against has
 hing\n 	Bee-flicker for pushing Harriet’s into puddles\n 	Willy Waiver a
 nd Just Horny for additional mileage\n 	Bit of Ruff for making it home\n 	
 Re-entry’s Mum\, kindly helped by Just Horny\n 	The Hares\, including Jy
 de for co-haring\n 	The Birthday boy and girls\, girls\, girls\n\nOn On to
  Dartmoor Training Centre this weekend and Shaugh Prior next Wednesday\, F
 lage-no-lay\n\n\n\n\n\n\n\nHare's Birthday Hash\n\nfood and pay bar\n\n&nb
 sp\;
CATEGORIES:Hash Trails
LOCATION:Hare's House - Blackadon Barns Blackadon Barns\, Ivybridge\, Devon
 \, PL21 0HB
GEO:50.4024274;-3.8790243999999348
X-APPLE-STRUCTURED-LOCATION;VALUE=URI;X-ADDRESS=Blackadon Barns\, Ivybridge
 \, Devon\, PL21 0HB\, United Kingdom;X-APPLE-RADIUS=100;X-TITLE=Hare's Hou
 se - Blackadon Barns:geo:50.4024274,-3.8790243999999348
END:VEVENT
BEGIN:VTIMEZONE
TZID:Europe/London
X-LIC-LOCATION:Europe/London
BEGIN:STANDARD
DTSTART:20181028T010000
TZOFFSETFROM:+0100
TZOFFSETTO:+0000
TZNAME:GMT
END:STANDARD
END:VTIMEZONE
END:VCALENDAR