BEGIN:VCALENDAR
VERSION:2.0
PRODID:-//wp-events-plugin.com//7.2.3.1//EN
TZID:Europe/London
X-WR-TIMEZONE:Europe/London
BEGIN:VEVENT
UID:206@sh4.org.uk
DTSTART;TZID=Europe/London:20190116T193000
DTEND;TZID=Europe/London:20190116T230000
DTSTAMP:20201015T100555Z
URL:https://www.sh4.org.uk/events/hash-1180/
SUMMARY:South Hams H4 Hash 1180 - Church House Inn (Harberton)
DESCRIPTION:\n\n\n\n\n\n\n\n\n\n\n\nThe Words Hash 1180 according to JP\n\n
 \n\n\n\n\n\n\n\n\n\n\n\n\n\n\n\n\n\n\n\n\nWhat ... No Jyde !! Who on Earth
 's gonna do the words ? ... Oh well\, we'll carry on anyways\n\nApparently
  it was Running Late's fault\, or Hekkel's ... or the Sat Nav's or summit.
  Or so Jyde tells me ! And so on a crisp January evening in Harberton\, in
  spite of standing outside of a 13th century pub there is no history so we
 're off on on !\n\nThe usual suspects soon disappeared into the distance. 
 Well that's okay init\, at least the rest of us will know where to go afte
 r the FRB's have kicked all of the checks out ! Is that right Re-Entry ? I
 f only he had a "best friend" who could do it for him. Step up Tor ! At th
 is point\, thankfully for Overshot I'm not allowed to mention his brand ne
 w jacket for fears of tears over tears.\n\nMeanwhile Boaty McBoatface was 
 busying himself being 'gallant' (?) holding up wire\, whatever floats yer 
 boat boaty. Bee-flicker\, Rubbery\, Ging Gang and unnamed Claire were at t
 his point all doing their best to get stuck in the mud. Did anyone check t
 hey all had a full complement of shoes back at the pub ?\n\nBy now we're h
 alf way around the hash and running up through a lovely valley. We're all 
 DARTing about fields\, we can hear a river but\, ERME ... where in hAVON i
 s it ? Just keep running say the PLYMtpton lot ... is that an OTTER ? No\,
  a small car ? No\, it's a ford !\n\nAnd so eventually across the elusive 
 river we go. 'Tis nice and shallow so we're all okay 'cept poor Gary Glitt
 er who like the US President\, doesn't like getting her feet wet. Luckily 
 she got a lift courtesy of Morticia. Speculation on my part but I suspect 
 Donald Trump would have demanded a kayak or something similar to cross in.
  He doesn't really like them though ... says they're fake canoes !\n\nBack
  at the Church House Inn and the Down Downs were awarded to Squash Balls\,
  Cow Pat\, Gary Glitter\, Pimples and wonderful hares Morticia &amp\; Gome
 z\n\nOn on to Buckfastleigh\n\n\n\n\n\n\n\n\n\n&nbsp\;\n\nMessage from Mor
 ticia and Gomez re: hash at Harbeton on Wednesday.\nThe pub has a special 
 offer on their Sirloin steak on a weds. It’s usually £20 but on weds yo
 u can have 2 for £30 with a bottle of house wine thrown in. ‘All the tr
 immings’ included. - \n\n\n\n\n\n\n\n\n\n\n\nThe Words Hash 1180 accordi
 ng to JP\n\n\n\n\n\n\n\n\n\n\n\n\n\n\n\n\n\n\n\n\n\n\nWhat ... No Jyde !! 
 Who on Earth's gonna do the words ? ... Oh well\, we'll carry on anyways\n
 \nApparently it was Running Late's fault\, or Hekkel's ... or the Sat Nav'
 s or summit. Or so Jyde tells me ! And so on a crisp January evening in Ha
 rberton\, in spite of standing outside of a 13th century pub there is no h
 istory so we're off on on !\n\nThe usual suspects soon disappeared into th
 e distance. Well that's okay init\, at least the rest of us will know wher
 e to go after the FRB's have kicked all of the checks out ! Is that right 
 Re-Entry ? If only he had a "best friend" who could do it for him. Step up
  Tor ! At this point\, thankfully for Overshot I'm not allowed to mention 
 his brand new jacket for fears of tears over tears.\n\nMeanwhile Boaty McB
 oatface was busying himself being 'gallant' (?) holding up wire\, whatever
  floats yer boat boaty. Bee-flicker\, Rubbery\, Ging Gang and unnamed Clai
 re were at this point all doing their best to get stuck in the mud. Did an
 yone check they all had a full complement of shoes back at the pub ?\n\nBy
  now we're half way around the hash and running up through a lovely valley
 . We're all DARTing about fields\, we can hear a river but\, ERME ... wher
 e in hAVON is it ? Just keep running say the PLYMtpton lot ... is that an 
 OTTER ? No\, a small car ? No\, it's a ford !\n\nAnd so eventually across 
 the elusive river we go. 'Tis nice and shallow so we're all okay 'cept poo
 r Gary Glitter who like the US President\, doesn't like getting her feet w
 et. Luckily she got a lift courtesy of Morticia. Speculation on my part bu
 t I suspect Donald Trump would have demanded a kayak or something similar 
 to cross in. He doesn't really like them though ... says they're fake cano
 es !\n\nBack at the Church House Inn and the Down Downs were awarded to Sq
 uash Balls\, Cow Pat\, Gary Glitter\, Pimples and wonderful hares Morticia
  &amp\; Gomez\n\nOn on to Buckfastleigh\n\n\n\n\n\n\n\n\n\n&nbsp\;\n\nMess
 age from Morticia and Gomez re: hash at Harbeton on Wednesday.\nThe pub ha
 s a special offer on their Sirloin steak on a weds. It’s usually £20 bu
 t on weds you can have 2 for £30 with a bottle of house wine thrown in. 
 ‘All the trimmings’ included.
CATEGORIES:Hash Trails
LOCATION:Church House Inn (Harberton) Church House Inn\, Harberton\, Devon
GEO:50.414609;-3.721495
X-APPLE-STRUCTURED-LOCATION;VALUE=URI;X-ADDRESS=Church House Inn\, Harberto
 n\, Devon\, United Kingdom;X-APPLE-RADIUS=100;X-TITLE=Church House Inn (Ha
 rberton):geo:50.414609,-3.721495
END:VEVENT
BEGIN:VTIMEZONE
TZID:Europe/London
X-LIC-LOCATION:Europe/London
BEGIN:STANDARD
DTSTART:20181028T010000
TZOFFSETFROM:+0100
TZOFFSETTO:+0000
TZNAME:GMT
END:STANDARD
END:VTIMEZONE
END:VCALENDAR