BEGIN:VCALENDAR
VERSION:2.0
PRODID:-//wp-events-plugin.com//7.2.3.1//EN
TZID:Europe/London
X-WR-TIMEZONE:Europe/London
BEGIN:VEVENT
UID:211@sh4.org.uk
DTSTART;TZID=Europe/London:20190206T193000
DTEND;TZID=Europe/London:20190206T230000
DTSTAMP:20191112T213841Z
URL:https://www.sh4.org.uk/events/hash-1183/
SUMMARY:South Hams H4 Hash 1183 - Village Inn - Thurlestone
DESCRIPTION:\n\n\n\n\n\n\n\n\n\n\n\nThe Words 1183 according to Jyde\n\n\n\
 n\n\n\n\n\n\n\n\n\n\n\n\n\n\n\n\nOctopus week in the South Hams\n\nWe were
  assembled and accurate information about the forthcoming outdoor event wa
 s issued. Health and safety aspects were thoroughly emphasized and as the 
 minute taker I have been tasked with representing a true version of the ev
 enings team work\, discussions and role play.\n\nAt the circle up Jyde had
  been hoping that by going skiing for 2 weeks that everyone might just hav
 e forgotten his turn to do the words. One can dream…  Annnd we were off
 …….\n\nClaire a hasher new to this environment apparently asked Lowtar
 se to park herself near a hedge so that she could remove her undergarments
 . The substance of this story should be fact checked and indeed the rest o
 f the story seems to have been redacted from the record.\n\nOlive the hare
  reportedly was immersed up to her neck in a stream\, the reason has yet t
 o be established but delayed hypothermia may account for the confusion she
  demonstrated at the beer stop about the direction of the hash thereafter.
  There may be of course other reasons\, but it would be inappropriate to s
 peculate. Nevertheless\, we must congratulate Olive on her tenacity in fin
 ding out the truth about where she actually was at the beer stop\, by phon
 ing a friend\, her husband Blue Nun.\n\nOvershot was reported to have fall
 en down a badger hole and Bit of Ruff fell over entirely\, allegedly\, bec
 ause he was talking to Dimmers at the time. Once again\, we can merely spe
 culate as the subject of the discussion at the time. Dimmers was saving hi
 mself for Saturdays run although I am failing to find any links here.\n\nN
 o Principles apparently locked her car to a lamp post in much the same way
  as one would lock a bicycle to a railing. However as she had also locked 
 her specs in the car she became unable to read the combination lock and un
 able to get back into her car. The author hopes that the specs were recove
 red for any night driving later in the evening and that no octopi were see
 n on the road.\n\nRunning late reportedly missed the beer stop because he 
 thought it was a parked aircraft – I know!\n\nWillie Waver won a bottle 
 of the poshest Blue Nun on the planet which he did not open immediately. M
 ost shockingly\, and this has been verified\, Hekkel and Twisted Sister go
 t to the beer stop before it has even opened for business!  One suspects 
 that there may have been an illegal navigation occurring.\n\nFinally Littl
 e Chef proved a leader among hashers by going round a stile which everyone
  else felt the need to climb over.\n\nWith the observation that the team p
 layed out very well on that night I would like to thank the carers and coo
 rdinators of this experiential learning event and look forward to many mor
 e successful conflagrations.\n\nDown downs were awarded to:\n\nThe hares O
 live &amp\; Blue Nun\nThe newly named Pongy Thong\nJyde for a birthday\
 nRunning late for hallucinations\nAnd possibly a virgin...\n\n\n\n\n\n\n -
  \n\n\n\n\n\n\n\n\n\n\n\nThe Words 1183 according to Jyde\n\n\n\n\n\n\n\n\
 n\n\n\n\n\n\n\n\n\n\n\nOctopus week in the South Hams\n\nWe were assembled
  and accurate information about the forthcoming outdoor event was issued. 
 Health and safety aspects were thoroughly emphasized and as the minute tak
 er I have been tasked with representing a true version of the evenings tea
 m work\, discussions and role play.\n\nAt the circle up Jyde had been hopi
 ng that by going skiing for 2 weeks that everyone might just have forgotte
 n his turn to do the words. One can dream…  Annnd we were off…….\n\
 nClaire a hasher new to this environment apparently asked Lowtarse to park
  herself near a hedge so that she could remove her undergarments. The subs
 tance of this story should be fact checked and indeed the rest of the stor
 y seems to have been redacted from the record.\n\nOlive the hare reportedl
 y was immersed up to her neck in a stream\, the reason has yet to be estab
 lished but delayed hypothermia may account for the confusion she demonstra
 ted at the beer stop about the direction of the hash thereafter. There may
  be of course other reasons\, but it would be inappropriate to speculate. 
 Nevertheless\, we must congratulate Olive on her tenacity in finding out t
 he truth about where she actually was at the beer stop\, by phoning a frie
 nd\, her husband Blue Nun.\n\nOvershot was reported to have fallen down a 
 badger hole and Bit of Ruff fell over entirely\, allegedly\, because he wa
 s talking to Dimmers at the time. Once again\, we can merely speculate as 
 the subject of the discussion at the time. Dimmers was saving himself for 
 Saturdays run although I am failing to find any links here.\n\nNo Principl
 es apparently locked her car to a lamp post in much the same way as one wo
 uld lock a bicycle to a railing. However as she had also locked her specs 
 in the car she became unable to read the combination lock and unable to ge
 t back into her car. The author hopes that the specs were recovered for an
 y night driving later in the evening and that no octopi were seen on the r
 oad.\n\nRunning late reportedly missed the beer stop because he thought it
  was a parked aircraft – I know!\n\nWillie Waver won a bottle of the pos
 hest Blue Nun on the planet which he did not open immediately. Most shocki
 ngly\, and this has been verified\, Hekkel and Twisted Sister got to the b
 eer stop before it has even opened for business!  One suspects that there
  may have been an illegal navigation occurring.\n\nFinally Little Chef pro
 ved a leader among hashers by going round a stile which everyone else felt
  the need to climb over.\n\nWith the observation that the team played out 
 very well on that night I would like to thank the carers and coordinators 
 of this experiential learning event and look forward to many more successf
 ul conflagrations.\n\nDown downs were awarded to:\n\nThe hares Olive &amp\
 ; Blue Nun\nThe newly named Pongy Thong\nJyde for a birthday\nRunning l
 ate for hallucinations\nAnd possibly a virgin...\n\n\n\n\n\n\n
CATEGORIES:Hash Trails
LOCATION:Village Inn - Thurlestone The Village Inn\, Thurlestone\, England\
 , TQ7 3NN\, Devon
GEO:50.271017;-3.861496
X-APPLE-STRUCTURED-LOCATION;VALUE=URI;X-ADDRESS=The Village Inn\, Thurlesto
 ne\, England\, TQ7 3NN\, Devon\, United Kingdom;X-APPLE-RADIUS=100;X-TITLE
 =Village Inn - Thurlestone:geo:50.271017,-3.861496
END:VEVENT
BEGIN:VTIMEZONE
TZID:Europe/London
X-LIC-LOCATION:Europe/London
BEGIN:STANDARD
DTSTART:20181028T010000
TZOFFSETFROM:+0100
TZOFFSETTO:+0000
TZNAME:GMT
END:STANDARD
END:VTIMEZONE
END:VCALENDAR