BEGIN:VCALENDAR
VERSION:2.0
PRODID:-//wp-events-plugin.com//7.2.3.1//EN
TZID:Europe/London
X-WR-TIMEZONE:Europe/London
BEGIN:VEVENT
UID:216@sh4.org.uk
DTSTART;TZID=Europe/London:20190313T193000
DTEND;TZID=Europe/London:20190313T230000
DTSTAMP:20191112T213201Z
URL:https://www.sh4.org.uk/events/hash-1190/
SUMMARY:South Hams H4 Hash 1190 - Wrangaton Golf Club
DESCRIPTION:\n\n\n\n\n\n\n\n\n\n\n\nThe words according to Marti\n\n\n\n\n\
 n\n\n\n\n\n\n\n\n\n\n\n\n\n\n\n\n\nOn arriving at Wrangaton Golf Club with
  Abel Mabel\, The New Family Pupster\, I tried to shirk my Scribe responsi
 bilities by hiding in the crowd.\n\nAs you will see I am writing them now 
 so that didn't work!!\n\nCircle up was brief for me\, mainly because I wen
 t to the loo and missed it.\n\n6 ½ for the long\n5 ½ for the medium\n4 
 ¼ for the short\n2 ½ for the walkers\n\nWere the distances banded around
 .\n\nOff went the crowd over the golf course. Able Mabel and I in hot purs
 uit\, mainly to stop her barking with excitement as it was her first time 
 out in the dark for a run.\n\nThe long/ short /walkers split was kindly hi
 dden on the verge so quite a few walkers ended up doing the short.\n\nPete
 \, No Name\, lost his shoe in a bog.\n\nDead Man Walking ended up with a n
 ose injury\, instigated by Wetspot.\n\nSome sheep jumped out at Dulux.\n\n
 Re Entry shouted at some members of the public\, telling them they were no
 t on the trail.\n\nBack at the club\, cheesy chips were a plenty.\n\nSquas
 hed Balls was the R.A for the evening. The usual jokes ensued. He named He
 idi\, poor girl is now to be known as DEEP THROAT. ( She didn't know what 
 that meant until she was told to Google Linda Lovelace)\n\nWe sang Happy B
 irthday to Genital Heat Rash.\n\nDown Downs went to:\n\nHeidi – naming D
 eep Throat. ( Or not as the case may be\, sipping her water)\nGenital Heat
  Rash – For his Birthday\nMeaty Hoare – For laying a great trail\nTigh
 t Arse – For laying a great trail\nDead Man Walking – For sustaining a
  nose injury\nRe Entry – For rudeness to the general public\nDulux – F
 or scaring sheep on the moor\n\nAfter all this excitement\, Squashed Balls
  comes over to me and hands me a golf ball. I am a  little confused\, he 
 tells me as I am scribe this week  I need his notes!! Completely forgot I
  had been volunteered  to scribe. Notes on a golf ball!!\n\nON ON next we
 ek to The First and Last in Ermington for home made pizza!!\n\n\n\n\n\n\n 
 - \n\n\n\n\n\n\n\n\n\n\n\nThe words according to Marti\n\n\n\n\n\n\n\n\n\n
 \n\n\n\n\n\n\n\n\n\n\n\n\nOn arriving at Wrangaton Golf Club with Abel Mab
 el\, The New Family Pupster\, I tried to shirk my Scribe responsibilities 
 by hiding in the crowd.\n\nAs you will see I am writing them now so that d
 idn't work!!\n\nCircle up was brief for me\, mainly because I went to the 
 loo and missed it.\n\n6 ½ for the long\n5 ½ for the medium\n4 ¼ for the
  short\n2 ½ for the walkers\n\nWere the distances banded around.\n\nOff w
 ent the crowd over the golf course. Able Mabel and I in hot pursuit\, main
 ly to stop her barking with excitement as it was her first time out in the
  dark for a run.\n\nThe long/ short /walkers split was kindly hidden on th
 e verge so quite a few walkers ended up doing the short.\n\nPete\, No Name
 \, lost his shoe in a bog.\n\nDead Man Walking ended up with a nose injury
 \, instigated by Wetspot.\n\nSome sheep jumped out at Dulux.\n\nRe Entry s
 houted at some members of the public\, telling them they were not on the t
 rail.\n\nBack at the club\, cheesy chips were a plenty.\n\nSquashed Balls 
 was the R.A for the evening. The usual jokes ensued. He named Heidi\, poor
  girl is now to be known as DEEP THROAT. ( She didn't know what that meant
  until she was told to Google Linda Lovelace)\n\nWe sang Happy Birthday to
  Genital Heat Rash.\n\nDown Downs went to:\n\nHeidi – naming Deep Throat
 . ( Or not as the case may be\, sipping her water)\nGenital Heat Rash – 
 For his Birthday\nMeaty Hoare – For laying a great trail\nTight Arse –
  For laying a great trail\nDead Man Walking – For sustaining a nose inju
 ry\nRe Entry – For rudeness to the general public\nDulux – For scaring
  sheep on the moor\n\nAfter all this excitement\, Squashed Balls comes ove
 r to me and hands me a golf ball. I am a  little confused\, he tells me a
 s I am scribe this week  I need his notes!! Completely forgot I had been 
 volunteered  to scribe. Notes on a golf ball!!\n\nON ON next week to The 
 First and Last in Ermington for home made pizza!!\n\n\n\n\n\n\n
CATEGORIES:Hash Trails
LOCATION:Wrangaton Golf Club Golf Links Road\, Wrangaton\, Devon\, TQ10 9HJ
  
GEO:50.407774;-3.864095
X-APPLE-STRUCTURED-LOCATION;VALUE=URI;X-ADDRESS=Golf Links Road\, Wrangaton
 \, Devon\, TQ10 9HJ \, United Kingdom;X-APPLE-RADIUS=100;X-TITLE=Wrangaton
  Golf Club:geo:50.407774,-3.864095
END:VEVENT
BEGIN:VTIMEZONE
TZID:Europe/London
X-LIC-LOCATION:Europe/London
BEGIN:STANDARD
DTSTART:20181028T010000
TZOFFSETFROM:+0100
TZOFFSETTO:+0000
TZNAME:GMT
END:STANDARD
END:VTIMEZONE
END:VCALENDAR