BEGIN:VCALENDAR
VERSION:2.0
PRODID:-//wp-events-plugin.com//7.2.3.1//EN
TZID:Europe/London
X-WR-TIMEZONE:Europe/London
BEGIN:VEVENT
UID:226@sh4.org.uk
DTSTART;TZID=Europe/London:20190522T193000
DTEND;TZID=Europe/London:20190522T230000
DTSTAMP:20191112T212152Z
URL:https://www.sh4.org.uk/events/hash-1200/
SUMMARY:South Hams H4 Hash 1200 - South Hams Brewery
DESCRIPTION:\n\n\n\n\n\n\n\n\n\n\n\nThe words according to Pimples\n\n\n\n\
 n\n\n\n\n\n\n\n\n\n\n\n\n\n\n\n\nSouth Hams Hash Harriers 1200th Hash  - 
 May 2019\n@ The Tap House\, South Hams Brewery in aid of Devon Air Ambulan
 ce.\nHares\nOvershot\nRusty Bottom\nTopshelf\nBit of Rough – Virgin Hare
 \nA sea of blue T-Shirts set out on a warm May evening against the beautif
 ul back drop of Torcross and Slapton Ley. This amazing view was soon shatt
 ered by Boaty\, Deadman Walking &amp\; Wet Spot trying to recreate a scene
  from the Sound of Music although someone said it looked more like an adve
 rt for Grinder – especially when Wet Spot was overheard saying he wished
  they had all held hands.\nDuring the circle up we had been given clear in
 structions to keep to the edge of all the fields\, moments later a number 
 of hashers led by Goolie and co were ignoring all rules (there are no rule
 s in hashing) and were caught heading across the middle of the fields cutt
 ing all corners. The Jerk suggested we try reverse psychology next time.\n
 During the hash\, confusion soon arose when checking checks\, 3 dots and o
 n then became a cross?!.. This was later blamed on the Virgin Hare Bit of 
 Rough for not being able to count\, which later earned him a down down. Co
 nfusion continued over some poor ‘not up to scratch’ arrows which were
  laid by Rusty Bottom.\nMost of the action happened on the return to the c
 ar park.  –\nNew boy Alan couldn’t find his car keys\, turns out his 
 car had rolled forward onto his keys…………\nAlan you should have kno
 wn better than to park your car downhill and put your keys under the wheel
  -  School boy error.\nGoolie tried to make friends with a rather startle
 d Frauline by innocently asking her if she would like to join the hash aft
 er she caught him checking out the inside of her campervan. Ging Gang did 
 try to warn him it wasn’t a hasher’s campervan. You would have thought
  that the D on the number plate may have given it away.\nDimwit reported h
 earing frantic knocking from inside a car\, but due to tinted windows he c
 ouldn’t see who it was so he just walked on by. Poor Hot Totty had becom
 e a victim of her own child locks and was stuck in the car. The night even
 ts didn’t stop there for Hot Totty who was later awarded her 100 run T-S
 hirt which she proudly wore.\nBack at the Tap House we celebrated the 1200
 th run which included meringue spelling out 1200th cooked by Little Chef. 
 Unfortunately\, while Gaffer was trying to show off the meringue he droppe
 d it\, you can see photo evidence on Facebook.\nOn a serious note\, thanks
  were given to South Hams Brewery who waived the rental fee as we donated 
 it to the Devon Air Ambulance\, alongside the proceeds from the sale of th
 e T-shirts and the contents of what was collected on the evening in Oversh
 oots hat. Amount raised still to be announced.\nOther events of the evenin
 g –\n\n\n 	\nDimwit complained of a poorly belly – although he managed
  to demolish a seafood pizza.\n\n 	\nBoth Heckle and Topshelf had birthday
 s and they were sung too in the usual hash fashion.\n\n\nDown Downs were a
 warded to\nRusty Bottom – Hare\nTopshelf – Hare and Birthday\nBit of R
 ough – Hare and can’t count\nHeckle – Birthday\nHot Totty – 100 T-
 shirt\nAlan – for losing his keys\nOn On to Avonwick\n\n\n\n\n\n\n\n\n\n
 South Hams Hash House Harriers are celebrating their 1200th Hash at\nThe T
 ap House\nSouth Hams Brewery\nStokeley Farm Shop\nStokenham\nKingsbridge\n
 TQ7 2SE\n\nCircle Up Outside the TapHouse\n\nHares Rusty Bottom\, Overshot
  and Top Shelf\n\nThis is a Charity Hash and we will be raising funds for 
 the Devon Air Ambulance.\n\nThe Farm Shop Cafe and Tap house are opening e
 specially for us!\nThe have also generously waived any hire fee and we wil
 l be putting this fee instead into the charity pot! T shirt sales profit a
 nd also hash subs on the night will also go into the charity pot. Finally 
 the GM's admiral hat will be circulating throughout the night for further 
 donations so please give generously.\n\nSouth Hams Brewery will be 5 or 6 
 ales\, 2 lagers\, 2 ciders and 1 fruity cider all on tap\, plus Wine\, Spi
 rits and Soft drinks. Good luck to those attempting them all.\n\nFood will
  also be available.\n4 types of 12 inch Pizzas at £10 each\n\nMargherita\
 n\nMediterranean – peppers aubergine onion courgette with pesto and herb
 s\n\nMarinara – prawns tuna anchovies and herbs\n\nPollita – Chicken c
 horizo with fresh herbs\n\nCheesy Chips at £3 a bowl.\n\nWe would welcome
  anybody else to join us if they haven't hashed before and join in the fun
 !\n\nThe hash will be shorter then usual with the Long around 4 miles plus
  a kids hash of a mile (ish) so bring the family! - \n\n\n\n\n\n\n\n\n\n\n
 \nThe words according to Pimples\n\n\n\n\n\n\n\n\n\n\n\n\n\n\n\n\n\n\n\n\n
 South Hams Hash Harriers 1200th Hash  - May 2019\n@ The Tap House\, South
  Hams Brewery in aid of Devon Air Ambulance.\nHares\nOvershot\nRusty Botto
 m\nTopshelf\nBit of Rough – Virgin Hare\nA sea of blue T-Shirts set out 
 on a warm May evening against the beautiful back drop of Torcross and Slap
 ton Ley. This amazing view was soon shattered by Boaty\, Deadman Walking &
 amp\; Wet Spot trying to recreate a scene from the Sound of Music although
  someone said it looked more like an advert for Grinder – especially whe
 n Wet Spot was overheard saying he wished they had all held hands.\nDuring
  the circle up we had been given clear instructions to keep to the edge of
  all the fields\, moments later a number of hashers led by Goolie and co w
 ere ignoring all rules (there are no rules in hashing) and were caught hea
 ding across the middle of the fields cutting all corners. The Jerk suggest
 ed we try reverse psychology next time.\nDuring the hash\, confusion soon 
 arose when checking checks\, 3 dots and on then became a cross?!.. This wa
 s later blamed on the Virgin Hare Bit of Rough for not being able to count
 \, which later earned him a down down. Confusion continued over some poor 
 ‘not up to scratch’ arrows which were laid by Rusty Bottom.\nMost of t
 he action happened on the return to the car park.  –\nNew boy Alan coul
 dn’t find his car keys\, turns out his car had rolled forward onto his k
 eys…………\nAlan you should have known better than to park your car d
 ownhill and put your keys under the wheel -  School boy error.\nGoolie tr
 ied to make friends with a rather startled Frauline by innocently asking h
 er if she would like to join the hash after she caught him checking out th
 e inside of her campervan. Ging Gang did try to warn him it wasn’t a has
 her’s campervan. You would have thought that the D on the number plate m
 ay have given it away.\nDimwit reported hearing frantic knocking from insi
 de a car\, but due to tinted windows he couldn’t see who it was so he ju
 st walked on by. Poor Hot Totty had become a victim of her own child locks
  and was stuck in the car. The night events didn’t stop there for Hot To
 tty who was later awarded her 100 run T-Shirt which she proudly wore.\nBac
 k at the Tap House we celebrated the 1200th run which included meringue sp
 elling out 1200th cooked by Little Chef. Unfortunately\, while Gaffer was 
 trying to show off the meringue he dropped it\, you can see photo evidence
  on Facebook.\nOn a serious note\, thanks were given to South Hams Brewery
  who waived the rental fee as we donated it to the Devon Air Ambulance\, a
 longside the proceeds from the sale of the T-shirts and the contents of wh
 at was collected on the evening in Overshoots hat. Amount raised still to 
 be announced.\nOther events of the evening –\n\n\n 	\nDimwit complained 
 of a poorly belly – although he managed to demolish a seafood pizza.\n\n
  	\nBoth Heckle and Topshelf had birthdays and they were sung too in the u
 sual hash fashion.\n\n\nDown Downs were awarded to\nRusty Bottom – Hare\
 nTopshelf – Hare and Birthday\nBit of Rough – Hare and can’t count\n
 Heckle – Birthday\nHot Totty – 100 T-shirt\nAlan – for losing his ke
 ys\nOn On to Avonwick\n\n\n\n\n\n\n\n\n\nSouth Hams Hash House Harriers ar
 e celebrating their 1200th Hash at\nThe Tap House\nSouth Hams Brewery\nSto
 keley Farm Shop\nStokenham\nKingsbridge\nTQ7 2SE\n\nCircle Up Outside the 
 TapHouse\n\nHares Rusty Bottom\, Overshot and Top Shelf\n\nThis is a Chari
 ty Hash and we will be raising funds for the Devon Air Ambulance.\n\nThe F
 arm Shop Cafe and Tap house are opening especially for us!\nThe have also 
 generously waived any hire fee and we will be putting this fee instead int
 o the charity pot! T shirt sales profit and also hash subs on the night wi
 ll also go into the charity pot. Finally the GM's admiral hat will be circ
 ulating throughout the night for further donations so please give generous
 ly.\n\nSouth Hams Brewery will be 5 or 6 ales\, 2 lagers\, 2 ciders and 1 
 fruity cider all on tap\, plus Wine\, Spirits and Soft drinks. Good luck t
 o those attempting them all.\n\nFood will also be available.\n4 types of 1
 2 inch Pizzas at £10 each\n\nMargherita\n\nMediterranean – peppers aube
 rgine onion courgette with pesto and herbs\n\nMarinara – prawns tuna anc
 hovies and herbs\n\nPollita – Chicken chorizo with fresh herbs\n\nCheesy
  Chips at £3 a bowl.\n\nWe would welcome anybody else to join us if they 
 haven't hashed before and join in the fun!\n\nThe hash will be shorter the
 n usual with the Long around 4 miles plus a kids hash of a mile (ish) so b
 ring the family!
CATEGORIES:Hash Trails
LOCATION:South Hams Brewery South Hams Brewery\, Stokenham\, England\, TQ7 
 2SE\, Devon
GEO:50.273863;-3.658474
X-APPLE-STRUCTURED-LOCATION;VALUE=URI;X-ADDRESS=South Hams Brewery\, Stoken
 ham\, England\, TQ7 2SE\, Devon\, United Kingdom;X-APPLE-RADIUS=100;X-TITL
 E=South Hams Brewery:geo:50.273863,-3.658474
END:VEVENT
BEGIN:VTIMEZONE
TZID:Europe/London
X-LIC-LOCATION:Europe/London
BEGIN:DAYLIGHT
DTSTART:20190331T020000
TZOFFSETFROM:+0000
TZOFFSETTO:+0100
TZNAME:BST
END:DAYLIGHT
END:VTIMEZONE
END:VCALENDAR