BEGIN:VCALENDAR
VERSION:2.0
PRODID:-//wp-events-plugin.com//7.2.3.1//EN
TZID:Europe/London
X-WR-TIMEZONE:Europe/London
BEGIN:VEVENT
UID:227@sh4.org.uk
DTSTART;TZID=Europe/London:20190529T193000
DTEND;TZID=Europe/London:20190529T230000
DTSTAMP:20191112T212054Z
URL:https://www.sh4.org.uk/events/hash-1201/
SUMMARY:South Hams H4 Hash 1201 - The Avon Inn
DESCRIPTION:\n\n\n\n\n\n\n\n\n\n\n\nThe words according to Running Late\n\n
 \n\n\n\n\n\n\n\n\n\n\n\n\n\n\n\n\n\n\nKnowing that the scribe letter was f
 ast approaching “R” but that the\nsecond letter of “u” would leave
  me still a couple of weeks off\, I was\ndisappointed to hear Re-Entry was
  the RA and Rizzo was having a\nstressful day\; so\, here I sit hunched ov
 er my keyboard.....\n\nPre hash news was that Rizzo's car had broken down
  at Woodlands\, but she had managed to get a lift to the hash. She didn't
  seem that concerned that she had left all her kids at Woodlands\, to be 
 collected the next day.\n\nThere were a couple of virgins and a couple of 
 friendly hashers from\nPhoenix\, Arizona\, Hot Pocket and the hirsute\, Na
 ir Bear\, Nair being a\nhair removal product (I looked that up).They liked
  our little green\nhills and pub hospitality and seemed to know all the wo
 rds to the\nsong . Enjoy your travels!\n\nIn drink related matters\, Rubbe
 ry was taking his recycling drive a\nlittle too far by making all the kids
  at the drink stop share from the\nsame cup. He was worried about having e
 nough to serve the usual late arrivals\, Lowtarse this week accompanied b
 y Vindaloo\, appeared at 9.\n\nBack at the pub\, RA Re-Entry apologised to
  the pub that one of us\,\nMarty\, was now working on the other side of th
 e bar. She was actually doing a great job\; maybe a hasher could seek tem
 porary employment for every pub we visit? I'll put it to the committee.\n
 \nDimwit and Flage had laid a great trail\, despite having laid most of\ni
 t from a car\, apparently\, although a car wouldn't have got to some of t
 he highlights\, like round the back of the sewage works in the\nnettles. T
 his bit isn't on any map said a proud Dimmers. Him and Flage have obvious
 ly been picking up lots of tricks from all the other hashes they go on\, 
 a back check of 8 marks confused many and provoked a quit grumble from Ga
 ffer. I've got written down here that Overshot “nipped in at the end”
  but no idea what it refers to.\n\nSo\, another great hash\, enjoyed by al
 l.\n\nDown Down to: Dimwit and Flage-no-lay for a great trail\; Smokin' Di
 ck for something although the mis-identification of her gender had\nnothi
 ng to do with it\, I think\; the Arizonans\; Neil\, Mr “Nice Buns”\nfo
 r his naming\, “Muck Spreader” and finally Twin Buffers\, for 200\nhas
 hes and the what must have been the slowest down down on record.\n\nAnd fi
 nally\, the hash raised a glass to the life and memory of hash\nstalwart\,
  Big Bird who recently passed away. Everyone's condolences and best wishe
 s to his family and friends. Details about funeral plus lovely comments a
 nd picture on SH4 facebook page.\n\n\n\n\n\n\n - \n\n\n\n\n\n\n\n\n\n\n\nT
 he words according to Running Late\n\n\n\n\n\n\n\n\n\n\n\n\n\n\n\n\n\n\n\n
 \nKnowing that the scribe letter was fast approaching “R” but that the
 \nsecond letter of “u” would leave me still a couple of weeks off\, I 
 was\ndisappointed to hear Re-Entry was the RA and Rizzo was having a\nstre
 ssful day\; so\, here I sit hunched over my keyboard.....\n\nPre hash new
 s was that Rizzo's car had broken down at Woodlands\, but she had managed
  to get a lift to the hash. She didn't seem that concerned that she had l
 eft all her kids at Woodlands\, to be collected the next day.\n\nThere wer
 e a couple of virgins and a couple of friendly hashers from\nPhoenix\, Ari
 zona\, Hot Pocket and the hirsute\, Nair Bear\, Nair being a\nhair removal
  product (I looked that up).They liked our little green\nhills and pub hos
 pitality and seemed to know all the words to the\nsong . Enjoy your travel
 s!\n\nIn drink related matters\, Rubbery was taking his recycling drive a\
 nlittle too far by making all the kids at the drink stop share from the\ns
 ame cup. He was worried about having enough to serve the usual late arriv
 als\, Lowtarse this week accompanied by Vindaloo\, appeared at 9.\n\nBack 
 at the pub\, RA Re-Entry apologised to the pub that one of us\,\nMarty\, w
 as now working on the other side of the bar. She was actually doing a gre
 at job\; maybe a hasher could seek temporary employment for every pub we 
 visit? I'll put it to the committee.\n\nDimwit and Flage had laid a great 
 trail\, despite having laid most of\nit from a car\, apparently\, although
  a car wouldn't have got to some of the highlights\, like round the back 
 of the sewage works in the\nnettles. This bit isn't on any map said a prou
 d Dimmers. Him and Flage have obviously been picking up lots of tricks fr
 om all the other hashes they go on\, a back check of 8 marks confused man
 y and provoked a quit grumble from Gaffer. I've got written down here tha
 t Overshot “nipped in at the end” but no idea what it refers to.\n\nS
 o\, another great hash\, enjoyed by all.\n\nDown Down to: Dimwit and Flage
 -no-lay for a great trail\; Smokin' Dick for something although the mis-i
 dentification of her gender had\nnothing to do with it\, I think\; the Ari
 zonans\; Neil\, Mr “Nice Buns”\nfor his naming\, “Muck Spreader” a
 nd finally Twin Buffers\, for 200\nhashes and the what must have been the 
 slowest down down on record.\n\nAnd finally\, the hash raised a glass to t
 he life and memory of hash\nstalwart\, Big Bird who recently passed away. 
 Everyone's condolences and best wishes to his family and friends. Details
  about funeral plus lovely comments and picture on SH4 facebook page.\n\n
 \n\n\n\n\n
CATEGORIES:Hash Trails
LOCATION:The Avon Inn Plymouth Road\, Avonwick\, TQ10 9NB
GEO:50.41048600728175;-3.8114724556030524
X-APPLE-STRUCTURED-LOCATION;VALUE=URI;X-ADDRESS=Plymouth Road\, Avonwick\, 
 TQ10 9NB\, United Kingdom;X-APPLE-RADIUS=100;X-TITLE=The Avon Inn:geo:50.4
 1048600728175,-3.8114724556030524
END:VEVENT
BEGIN:VTIMEZONE
TZID:Europe/London
X-LIC-LOCATION:Europe/London
BEGIN:DAYLIGHT
DTSTART:20190331T020000
TZOFFSETFROM:+0000
TZOFFSETTO:+0100
TZNAME:BST
END:DAYLIGHT
END:VTIMEZONE
END:VCALENDAR