BEGIN:VCALENDAR
VERSION:2.0
PRODID:-//wp-events-plugin.com//7.2.3.1//EN
TZID:Europe/London
X-WR-TIMEZONE:Europe/London
BEGIN:VEVENT
UID:240@sh4.org.uk
DTSTART;TZID=Europe/London:20190626T193000
DTEND;TZID=Europe/London:20190626T230000
DTSTAMP:20191112T211424Z
URL:https://www.sh4.org.uk/events/hash-1207/
SUMMARY:South Hams H4 Hash 1207 - The Elburton Inn
DESCRIPTION:\n\n\n\n\n\n\n\n\n\n\n\nThe words #1207 according to Spotty Bo
 tty\n\n\n\n\n\n\n\n\n\n\n\n\n\n\n\n\n\n\n\n\nElburton Inn\n\nThe RA-GM beg
 an by saying how relieving it was to see everyone in normal clothes again 
 and not red dresses - no-one had to worry what to wear i.e. boots or no bo
 ots in 'that's crap's case.\n\nThen we were bored - or entertained with mo
 re history about Plymstock - I don't remember it as I switched off (someth
 ing about the village hall).\nThoughts on the hash??? Was there any runnin
 g in the South Hams...way too much Plymouth  but well done to Gaffer who
  laid the hash by himself. We travelled past Gaffers school playground as 
 a boy\, most of us know this as the dump. Thank goodness it was in dayligh
 t or some of the hashers may have perished. The hare seemed to struggle a 
 bit\, maybe it was the heat as he was running in circles and doubling back
  on himself.\n\nWe seemed to enter spaghetti junction as the longs were cr
 ossing over the shorts and in all the excitement Puglsey went the wrong wa
 y and an un-named hasher - Josie - was isolated and had to call her boyfri
 end\, she didn't know where she was but GPS advised she was 2K away.\n\nHo
 t Totty decided to risk the road at the start as she did not want to go th
 rough the long dark smelly tunnel with her baby. The GM was then very rude
  about tunnels and the baby already travelling through one - I will say no
  more as I am sure Hot Totty is extremely well kept and hygienic.\n\nRe En
 try ran across the road to beat Overshot - there are no rules in hashing (
 it has often been said) however\, Overshot would like Re entry struck off 
 the register and disqualified....\n\nA few of the Plympton Hashers were ra
 ther disappointed with the lack of beer stop - especially as we ran past G
 affers front door. Some of the checks were incorrectly marked (with sticks
 ) and Spotty Botty got rather confused with the dots and dog poo (Plympton
  hash rules). The virgin who came along with his mum - bunion ring - was m
 oaning so much that Mum decided to carry on\, then drove him home\, shower
 ed and returned to pub!\n\nWilly Waiver was waving the flies away (what wi
 th we ask)? and TB led the shorts astray.\nBarbarella and Lo'Tarse set a n
 ew hash record - they were back at 9.30pm!!!!! then rescued Josie - who wa
 s 2K away and shouting for hashers in the woods.....this led nicely on to 
 the naming of Josie - things to note\, smoker\, lost in woods - Babe in th
 e Woods? Wood Bind? Fag Hag....and low and behold a shout from the back fo
 r Good Shag - NAMING DONE\nNaughty wet spot - hiding in the long grass and
  jumping out at Boaty who was quite shaken up.\nThanks to the pub....\n\nD
 own Downs awarded to: Gaffer\,  Good Shag\, Pugsley\, Bunion\, Lo'Tarse\,
  Boaty McBoatface\n\n\n\n\n\n\n\n - \n\n\n\n\n\n\n\n\n\n\n\nThe words #120
 7 according to Spotty Botty\n\n\n\n\n\n\n\n\n\n\n\n\n\n\n\n\n\n\n\n\nElbu
 rton Inn\n\nThe RA-GM began by saying how relieving it was to see everyone
  in normal clothes again and not red dresses - no-one had to worry what to
  wear i.e. boots or no boots in 'that's crap's case.\n\nThen we were bored
  - or entertained with more history about Plymstock - I don't remember it 
 as I switched off (something about the village hall).\nThoughts on the has
 h??? Was there any running in the South Hams...way too much Plymouth  bu
 t well done to Gaffer who laid the hash by himself. We travelled past Gaff
 ers school playground as a boy\, most of us know this as the dump. Thank g
 oodness it was in daylight or some of the hashers may have perished. The h
 are seemed to struggle a bit\, maybe it was the heat as he was running in 
 circles and doubling back on himself.\n\nWe seemed to enter spaghetti junc
 tion as the longs were crossing over the shorts and in all the excitement 
 Puglsey went the wrong way and an un-named hasher - Josie - was isolated a
 nd had to call her boyfriend\, she didn't know where she was but GPS advis
 ed she was 2K away.\n\nHot Totty decided to risk the road at the start as 
 she did not want to go through the long dark smelly tunnel with her baby. 
 The GM was then very rude about tunnels and the baby already travelling th
 rough one - I will say no more as I am sure Hot Totty is extremely well ke
 pt and hygienic.\n\nRe Entry ran across the road to beat Overshot - there 
 are no rules in hashing (it has often been said) however\, Overshot would 
 like Re entry struck off the register and disqualified....\n\nA few of the
  Plympton Hashers were rather disappointed with the lack of beer stop - es
 pecially as we ran past Gaffers front door. Some of the checks were incorr
 ectly marked (with sticks) and Spotty Botty got rather confused with the d
 ots and dog poo (Plympton hash rules). The virgin who came along with his 
 mum - bunion ring - was moaning so much that Mum decided to carry on\, the
 n drove him home\, showered and returned to pub!\n\nWilly Waiver was wavin
 g the flies away (what with we ask)? and TB led the shorts astray.\nBarbar
 ella and Lo'Tarse set a new hash record - they were back at 9.30pm!!!!! th
 en rescued Josie - who was 2K away and shouting for hashers in the woods..
 ...this led nicely on to the naming of Josie - things to note\, smoker\, l
 ost in woods - Babe in the Woods? Wood Bind? Fag Hag....and low and behold
  a shout from the back for Good Shag - NAMING DONE\nNaughty wet spot - hid
 ing in the long grass and jumping out at Boaty who was quite shaken up.\nT
 hanks to the pub....\n\nDown Downs awarded to: Gaffer\,  Good Shag\, Pugs
 ley\, Bunion\, Lo'Tarse\, Boaty McBoatface\n\n\n\n\n\n\n\n
CATEGORIES:Hash Trails
LOCATION:The Elburton Inn 221 Elburton Road\, Plymouth\, PL9 8HX
GEO:50.359677;-4.063221
X-APPLE-STRUCTURED-LOCATION;VALUE=URI;X-ADDRESS=221 Elburton Road\, Plymout
 h\, PL9 8HX\, United Kingdom;X-APPLE-RADIUS=100;X-TITLE=The Elburton Inn:g
 eo:50.359677,-4.063221
END:VEVENT
BEGIN:VTIMEZONE
TZID:Europe/London
X-LIC-LOCATION:Europe/London
BEGIN:DAYLIGHT
DTSTART:20190331T020000
TZOFFSETFROM:+0000
TZOFFSETTO:+0100
TZNAME:BST
END:DAYLIGHT
END:VTIMEZONE
END:VCALENDAR