BEGIN:VCALENDAR
VERSION:2.0
PRODID:-//wp-events-plugin.com//7.2.3.1//EN
TZID:Europe/London
X-WR-TIMEZONE:Europe/London
BEGIN:VEVENT
UID:241@sh4.org.uk
DTSTART;TZID=Europe/London:20190703T193000
DTEND;TZID=Europe/London:20190703T230000
DTSTAMP:20191112T211159Z
URL:https://www.sh4.org.uk/events/hash-1208/
SUMMARY:South Hams H4 Hash 1208 - Leonards Road Car Park
DESCRIPTION:\n\n\n\n\n\n\n\n\n\n\n\nThe words 1208 according to Sticky Bus
 h\n\n\n\n\n\n\n\n\n\n\n\n\n\n\n\n\n\n\n\nThe Words\n\nHash 3rd July Ivybri
 dge\,\n\nOn down The Exchange\n\nA big thank you to the hares Genital Heat
  Rash and She’s Ready for the fantastic trail.\n\nSo…here’s the low 
 down…\n\nRubbery and traffic were spotted holding hands in the woods\, a
 h… his inner gentleman came out when he had the opportunity to help a la
 dy struggling through her undergrowth.\n\nRe-entry was taken from the lead
  momentarily when Cunning Stump jumped up and floored him. His scratches w
 ere visible to all especially when he showed them to everyone.  He wasn
 ’t the only hasher to get wounded that night. Fob Jockey gained a much m
 ore impressive wound when he was savaged by a dire wolf beast..\n\nSex wax
  took a slow dip into wet knickerdom but didn’t notice as it was nothing
  new for her. Vindaloo also had fun in the water with her rear end.\n\nGin
 gGang\, master vaulter\, misjudged the rusty old gate and sustained nasty 
 injuries to both arms as she flew over the top. This was a bad move as it 
 she then had no chance taking on champion arm wrestler Twin Buffers.. Ging
 Gang was absolutely certain that she would not be getting a restorative ta
 ttoo in the form of a ‘W’ on each butt cheek…WOW\n\nThe Jerk did a b
 it of reminiscing to the time he was mono-skiing in budgie smugglers in Si
 ngapore in 1983. An image not to be forgotten.\n\nThere was a self-naming 
 tonight. Good Shag’s partner was asked by Goolie if he had been named ye
 t- he replied “no\, but I think it’s going to be coming soon”… eas
 y!\n\nDown downs were awarded to-\n\nBirthdays Shirt Lifter (20)\, Gary Gl
 itter (21)\n\nHares Genital Heat Rash and She’s Ready\n\nNaming Coming S
 oon\n\nFob Jockey - savaged by a wolf\n\n&nbsp\;\n\nOn on to Thurlestone S
 and’s carpark and then the Adam’s family house and yes you can bring y
 our own champagne GingGang\n\n&nbsp\;\n\nSticky Bush\n\n\n\n\n\n\n\n&nbsp\
 ;\n\nOn Down  Now The Exchange\n\n1 fore street\, Ivybridge PL21 9AB\n\n&
 nbsp\; - \n\n\n\n\n\n\n\n\n\n\n\nThe words 1208 according to Sticky Bush\
 n\n\n\n\n\n\n\n\n\n\n\n\n\n\n\n\n\n\n\nThe Words\n\nHash 3rd July Ivybridg
 e\,\n\nOn down The Exchange\n\nA big thank you to the hares Genital Heat R
 ash and She’s Ready for the fantastic trail.\n\nSo…here’s the low do
 wn…\n\nRubbery and traffic were spotted holding hands in the woods\, ah
 … his inner gentleman came out when he had the opportunity to help a lad
 y struggling through her undergrowth.\n\nRe-entry was taken from the lead 
 momentarily when Cunning Stump jumped up and floored him. His scratches we
 re visible to all especially when he showed them to everyone.  He wasn’
 t the only hasher to get wounded that night. Fob Jockey gained a much more
  impressive wound when he was savaged by a dire wolf beast..\n\nSex wax to
 ok a slow dip into wet knickerdom but didn’t notice as it was nothing ne
 w for her. Vindaloo also had fun in the water with her rear end.\n\nGingGa
 ng\, master vaulter\, misjudged the rusty old gate and sustained nasty inj
 uries to both arms as she flew over the top. This was a bad move as it she
  then had no chance taking on champion arm wrestler Twin Buffers.. GingGan
 g was absolutely certain that she would not be getting a restorative tatto
 o in the form of a ‘W’ on each butt cheek…WOW\n\nThe Jerk did a bit 
 of reminiscing to the time he was mono-skiing in budgie smugglers in Singa
 pore in 1983. An image not to be forgotten.\n\nThere was a self-naming ton
 ight. Good Shag’s partner was asked by Goolie if he had been named yet- 
 he replied “no\, but I think it’s going to be coming soon”… easy!\
 n\nDown downs were awarded to-\n\nBirthdays Shirt Lifter (20)\, Gary Glitt
 er (21)\n\nHares Genital Heat Rash and She’s Ready\n\nNaming Coming Soon
 \n\nFob Jockey - savaged by a wolf\n\n&nbsp\;\n\nOn on to Thurlestone Sand
 ’s carpark and then the Adam’s family house and yes you can bring your
  own champagne GingGang\n\n&nbsp\;\n\nSticky Bush\n\n\n\n\n\n\n\n&nbsp\;\n
 \nOn Down  Now The Exchange\n\n1 fore street\, Ivybridge PL21 9AB\n\n&nbs
 p\;
CATEGORIES:Hash Trails
LOCATION:Leonards Road Car Park Leonards Road\, Ivybridge\, PL21 0SL
GEO:50.388566;-3.919294
X-APPLE-STRUCTURED-LOCATION;VALUE=URI;X-ADDRESS=Leonards Road\, Ivybridge\,
  PL21 0SL\, United Kingdom;X-APPLE-RADIUS=100;X-TITLE=Leonards Road Car Pa
 rk:geo:50.388566,-3.919294
END:VEVENT
BEGIN:VTIMEZONE
TZID:Europe/London
X-LIC-LOCATION:Europe/London
BEGIN:DAYLIGHT
DTSTART:20190331T020000
TZOFFSETFROM:+0000
TZOFFSETTO:+0100
TZNAME:BST
END:DAYLIGHT
END:VTIMEZONE
END:VCALENDAR