BEGIN:VCALENDAR
VERSION:2.0
PRODID:-//wp-events-plugin.com//7.2.3.1//EN
TZID:Europe/London
X-WR-TIMEZONE:Europe/London
BEGIN:VEVENT
UID:242@sh4.org.uk
DTSTART;TZID=Europe/London:20190710T193000
DTEND;TZID=Europe/London:20190710T230000
DTSTAMP:20191112T211046Z
URL:https://www.sh4.org.uk/events/hash-1209/
SUMMARY:South Hams H4 Hash 1209 - Thurlestone Sands Beach Car Park
DESCRIPTION:\n\n\n\n\n\n\n\n\n\n\n\nThe words 1209 according to Shirt Lifte
 r\n\n\n\n\n\n\n\n\n\n\n\n\n\n\n\n\n\n\n\nThis was not a hair of the dog ha
 sh but a hash of the two dogs.\n\nFirst up\, Blue Nun\, who lives on the a
 ctual trail tonight drove over in order to pick up his wife (Olive's) dog\
 , Buster\, to put on the BBQ (he was delicious). He decided that Buster wo
 uld then enjoy a quick run back to the BBQ. Buster had other ideas\, every
  time Blue Nun let him off the lead \,Buster turned tail and fled for home
 \, Blue Nun following\, shouting\, "come back\, come back!" Buster of cour
 se received with open arms by his mum\, Olive. Blue Nun also helpfully fou
 nd Olive's abandoned pants and wore them for safekeeping.\n\nSecond\, Spot
 ty Botty's dog\, like his owner\, likes to do his own thing\, doesn't list
 en\, doesn't obey\, etc etc. He legged it at the start to be picked up lat
 er by Boaty (good with pets and children). Meanwhile Spotty abandons her o
 wn kids to look for dog\, leaving them to have Botany lesson care of Pi\; 
 at least they now know the difference between wild carrots and hogweed.\n
 \nIn other news Rubbery and Deadman Walking came with no meat (Dead man lo
 oked liked he had forgotten his clothes as well) and stole some from someo
 ne in the carpark. Mr Softy and family went to the wrong carpark and did t
 he hash backwards. He would be a crap ice-cream van man! He wasn't the onl
 y one to go wrong. Running Late had spent the weekend navigating Sticky Bu
 sh around the Lake district and then couldn't find the car park!\n\nThe BB
 Q and hash were brilliant care of the Adams Family.\n\nDown Downs to hares
 \, Morticia\, Gomez and Pugsley\, birthday boy\, Blue Nun and the third do
 g incident\, with Boaty's dog relieving itself on unnamed Lori's fake Gucc
 i bag\, immediately named Piss Bag (Baggers!)\n\nOn on to Scoops Barn\, De
 nbury\n\n\n\n\n\n\n\n\n\nCircle Parking at small Car Park nearer to Golf C
 ourse ///prawn.jots.list and NOT at Thurlestone Sands National Trust Car P
 ark.\nOn Down at Mortica\, Gomez and Pugsley Residence! BBQ at The Lea Hou
 se\, TQ7 3JR ///yummy.tugging.cover\n\nJust Bring your Meat/Veggie Meat as
  all else provided. There will be a Pay bar raising money for Charity for
   Pugsley's Epic South West Coastal Path Walk Next Year - \n\n\n\n\n\n\n\
 n\n\n\n\nThe words 1209 according to Shirt Lifter\n\n\n\n\n\n\n\n\n\n\n\n\
 n\n\n\n\n\n\n\nThis was not a hair of the dog hash but a hash of the two d
 ogs.\n\nFirst up\, Blue Nun\, who lives on the actual trail tonight drove 
 over in order to pick up his wife (Olive's) dog\, Buster\, to put on the B
 BQ (he was delicious). He decided that Buster would then enjoy a quick run
  back to the BBQ. Buster had other ideas\, every time Blue Nun let him off
  the lead \,Buster turned tail and fled for home\, Blue Nun following\, sh
 outing\, "come back\, come back!" Buster of course received with open arms
  by his mum\, Olive. Blue Nun also helpfully found Olive's abandoned pants
  and wore them for safekeeping.\n\nSecond\, Spotty Botty's dog\, like his 
 owner\, likes to do his own thing\, doesn't listen\, doesn't obey\, etc et
 c. He legged it at the start to be picked up later by Boaty (good with pet
 s and children). Meanwhile Spotty abandons her own kids to look for dog\, 
 leaving them to have Botany lesson care of Pi\; at least they now know the
  difference between wild carrots and hogweed.\n\nIn other news Rubbery an
 d Deadman Walking came with no meat (Dead man looked liked he had forgotte
 n his clothes as well) and stole some from someone in the carpark. Mr Soft
 y and family went to the wrong carpark and did the hash backwards. He woul
 d be a crap ice-cream van man! He wasn't the only one to go wrong. Running
  Late had spent the weekend navigating Sticky Bush around the Lake distric
 t and then couldn't find the car park!\n\nThe BBQ and hash were brilliant 
 care of the Adams Family.\n\nDown Downs to hares\, Morticia\, Gomez and Pu
 gsley\, birthday boy\, Blue Nun and the third dog incident\, with Boaty's 
 dog relieving itself on unnamed Lori's fake Gucci bag\, immediately named 
 Piss Bag (Baggers!)\n\nOn on to Scoops Barn\, Denbury\n\n\n\n\n\n\n\n\n\nC
 ircle Parking at small Car Park nearer to Golf Course ///prawn.jots.list a
 nd NOT at Thurlestone Sands National Trust Car Park.\nOn Down at Mortica\,
  Gomez and Pugsley Residence! BBQ at The Lea House\, TQ7 3JR ///yummy.tugg
 ing.cover\n\nJust Bring your Meat/Veggie Meat as all else provided. There 
 will be a Pay bar raising money for Charity for  Pugsley's Epic South Wes
 t Coastal Path Walk Next Year
CATEGORIES:Hash Trails
LOCATION:Thurlestone Sands Beach Car Park Beach Car Park\, South Milton\, E
 ngland\, TQ7 3JS\, Devon
GEO:50.262738;-3.85863
X-APPLE-STRUCTURED-LOCATION;VALUE=URI;X-ADDRESS=Beach Car Park\, South Milt
 on\, England\, TQ7 3JS\, Devon\, United Kingdom;X-APPLE-RADIUS=100;X-TITLE
 =Thurlestone Sands Beach Car Park:geo:50.262738,-3.85863
END:VEVENT
BEGIN:VTIMEZONE
TZID:Europe/London
X-LIC-LOCATION:Europe/London
BEGIN:DAYLIGHT
DTSTART:20190331T020000
TZOFFSETFROM:+0000
TZOFFSETTO:+0100
TZNAME:BST
END:DAYLIGHT
END:VTIMEZONE
END:VCALENDAR