BEGIN:VCALENDAR
VERSION:2.0
PRODID:-//wp-events-plugin.com//7.2.3.1//EN
TZID:Europe/London
X-WR-TIMEZONE:Europe/London
BEGIN:VEVENT
UID:243@sh4.org.uk
DTSTART;TZID=Europe/London:20190717T193000
DTEND;TZID=Europe/London:20190717T230000
DTSTAMP:20191112T210927Z
URL:https://www.sh4.org.uk/events/hash-1210/
SUMMARY:South Hams H4 Hash 1210 - Scoops Barn
DESCRIPTION:\n\n\n\n\n\n\n\n\n\n\n\nThe words 1210 according to Sex Wax\n\
 n\n\n\n\n\n\n\n\n\n\n\n\n\n\n\n\n\n\n&nbsp\;\nFirstly\, let it be known th
 at Sex Wax\, never having heard of\, viewed or read the Words\, was mortif
 ied at the thought. But here goes...\nWhat a fantastic night club venue - 
 music\, lights\, dancing ladies\, booze and food! Pimms in the barn before
  we started - was that a good idea? Were we all drunk or what?\nRumour has
  it that the Long Run was shorter than the Short. This was confirmed by an
  extremely rare happening. Barbarella and Lot-arse with Sex Wax hanging on
  at the back did the Long as usual.  Famed for getting lost or coming in 
 last\, they were in before the short runners - very odd.\nPost run\, Gooli
 e did the RA.\nReligious Acts or Rambling Atrociously\nHe reported that Ri
 zzo (Nice Bum) was running faster tonight. Was it the pre-run Pimms or the
  fact she did not have her mate to chat to on the way round?\nHe was also 
 very pleased to announce that Piss Bag\, newly and duly named last week\, 
 “should be thankful she wasn’t named Doggie Fashion”. \nMuch to the
  disappointment of all\, Ging Gang\, having received her 900-run t-shirt\,
  refused to bear all and put it on over her running top.\nThe fish and chi
 ps were delicious\, many compliments being paid to the fryer and her mate.
 \nAt the end\, Sex Wax\, in desperation\, had a tug of war with Goolie for
  his notes. Finally resorting to bribery and corruption\, she gave him a 
 £50 deposit for the post-Christmas do. Was it worth it? No! The notes wer
 e illegible.\nOh dear\, never mind. That’s all folks. Thanks to the Brix
 ham lot for a fabulous run. \nOver and out.\n\n\n\n\n\n\n\n\n\n\n\n\n\n\n
 \n\n\n\n\n\n\n\n\n\nk\n\n\n\n\n\n\n\n\n\n&nbsp\;\n\nChip Van on site. (the
 re was beer last time but a small barrel - so bring your own- just in case
 ) - \n\n\n\n\n\n\n\n\n\n\n\nThe words 1210 according to Sex Wax\n\n\n\n\n
 \n\n\n\n\n\n\n\n\n\n\n\n\n\n\n&nbsp\;\nFirstly\, let it be known that Sex 
 Wax\, never having heard of\, viewed or read the Words\, was mortified at 
 the thought. But here goes...\nWhat a fantastic night club venue - music\,
  lights\, dancing ladies\, booze and food! Pimms in the barn before we sta
 rted - was that a good idea? Were we all drunk or what?\nRumour has it tha
 t the Long Run was shorter than the Short. This was confirmed by an extrem
 ely rare happening. Barbarella and Lot-arse with Sex Wax hanging on at the
  back did the Long as usual.  Famed for getting lost or coming in last\, 
 they were in before the short runners - very odd.\nPost run\, Goolie did t
 he RA.\nReligious Acts or Rambling Atrociously\nHe reported that Rizzo (Ni
 ce Bum) was running faster tonight. Was it the pre-run Pimms or the fact s
 he did not have her mate to chat to on the way round?\nHe was also very pl
 eased to announce that Piss Bag\, newly and duly named last week\, “shou
 ld be thankful she wasn’t named Doggie Fashion”. \nMuch to the disapp
 ointment of all\, Ging Gang\, having received her 900-run t-shirt\, refuse
 d to bear all and put it on over her running top.\nThe fish and chips were
  delicious\, many compliments being paid to the fryer and her mate.\nAt th
 e end\, Sex Wax\, in desperation\, had a tug of war with Goolie for his no
 tes. Finally resorting to bribery and corruption\, she gave him a £50 dep
 osit for the post-Christmas do. Was it worth it? No! The notes were illegi
 ble.\nOh dear\, never mind. That’s all folks. Thanks to the Brixham lot 
 for a fabulous run. \nOver and out.\n\n\n\n\n\n\n\n\n\n\n\n\n\n\n\n\n\n\n
 \n\n\n\n\n\nk\n\n\n\n\n\n\n\n\n\n&nbsp\;\n\nChip Van on site. (there was b
 eer last time but a small barrel - so bring your own- just in case)
CATEGORIES:Hash Trails
LOCATION:Scoops Barn Scoops Barn\, Denbury\, Devon\, TQ12 6EW
GEO:50.51506748062662;-3.6592301782959566
X-APPLE-STRUCTURED-LOCATION;VALUE=URI;X-ADDRESS=Scoops Barn\, Denbury\, Dev
 on\, TQ12 6EW\, United Kingdom;X-APPLE-RADIUS=100;X-TITLE=Scoops Barn:geo:
 50.51506748062662,-3.6592301782959566
END:VEVENT
BEGIN:VTIMEZONE
TZID:Europe/London
X-LIC-LOCATION:Europe/London
BEGIN:DAYLIGHT
DTSTART:20190331T020000
TZOFFSETFROM:+0000
TZOFFSETTO:+0100
TZNAME:BST
END:DAYLIGHT
END:VTIMEZONE
END:VCALENDAR