BEGIN:VCALENDAR
VERSION:2.0
PRODID:-//wp-events-plugin.com//7.2.3.1//EN
TZID:Europe/London
X-WR-TIMEZONE:Europe/London
BEGIN:VEVENT
UID:253@sh4.org.uk
DTSTART;TZID=Europe/London:20190918T193000
DTEND;TZID=Europe/London:20190918T230000
DTSTAMP:20191112T205428Z
URL:https://www.sh4.org.uk/events/hash-1219/
SUMMARY:South Hams H4 Hash 1219 - Kingsbridge Rugby Club
DESCRIPTION:\n\n\n\n\n\n\n\n\n\n\n\nThe Words Hash 1219 according to Mr So
 fty\n\n\n\n\n\n\n\n\n\n\n\n\n\n\n\n\n\n\n\n\nAs a Virgin scribe\, I didn
 ’t want to make too much of a hash of this. (See what I did there!)\n\nS
 o Hash 1219 started at Kingsbridge Rugby Club attended by 3 (Not 2 Virgins
 ) – The third a teacher at KCC – No Principal’s may need to discuss 
 with her\, her willingness or otherwise to be exposed to the initiation ce
 remony overseen by Overshot…\n\nGiven the location of the hash there was
  a tendency towards puns during the introduction which I will try to avo
 id in the scribe.\n\nNO CHECKs – was the shout of the evening – As som
 ebody who generally runs a bit further down the order – I didn’t actua
 lly notice. But for Blue Nun &amp\; Olive the humiliating penalty of hav
 ing their checkless run equated to a litre of red wine in a plastic bottle
  may have been the reason that they were seen propping the bar up for mos
 t of the evening.\n\nA ban was announced for non-South-Hammians/Hammers/Ha
 monians (Not sure of the correct word) after Halloween provided a deal isn
 ’t done! Exceptions made for NHS staff or fees paid to Overshot.\n\nSo w
 e had a few hashers finding that in the newly fading light that they were 
 lost (on a route with no checks?) Olive – whilst laying – I assume the
  hash? Re-entry when he went back on the shorts - and that wasn’t the Am
 eretto? Pocket Rocket when following the man they call Whisperer – Give
 n Overshot’s (Apparently he only has 2 months left in the role) reiterat
 ion of the rules around distance of hash 10 miles does seem excessive – 
 although they did get back dry Mr Softy &amp\; Ice Ice Baby even go lost h
 aving followed an arrow straight into the dead end of a field.\n\nWe were 
 joined at the Rugby Club (But not the Hash) by Martin Longley martinlongl
 ey@hotmail.com who is setting up a Park Run at Bolberry Down – Any supp
 ort from members of SH4 would be greatly appreciated and he may even join 
 us on a Hash!\n\nWinnie the Pooh &amp\; Blown Off have apparently been tra
 ining at altitude – Winnie the Pooh was like Terminator according to Riz
 zo – So maybe training with Attitude? – I’ll be back.\n\nThe two Vi
 rgins from Kingsbridge &amp\; AEVeton Gifford – Charles forgot a torch b
 ut was provided a pencil by Rizzo with which to see.. Apparently he was a 
 friend of Dead Man Walking who not only didn’t discuss the need for ligh
 t but also refused him a lift. Let’s hope they are converted to hashin
 g.\n\nWe celebrated 100K for Squash Balls car\, 2 dogs &amp\; Dead Man Wal
 king’s birthday – I wasn’t clear whether 2 dogs was a Hash name\, Tw
 o Dogs or the Down Downs?\n\nSo in Summary\n\n\n 	The Jerk received a 300 
 Wasted Wednesday’s T Shirt\n 	Down Downs for Blue Nun &amp\; Olive\, Win
 nie the Pooh\, Two Virgins\, Bee flicker and Dead Man Walking.\n 	Finally 
 No Principals younger son was named – Captain Underpants due to a bid he
  made for Flage No Lay's knickers at the East Allington Hash – A Tenner
 …\n\n\nON ON to Rose &amp\; Crown Yealmpton\n\n\n\n\n\n\n\n - \n\n\n\n\n
 \n\n\n\n\n\n\nThe Words Hash 1219 according to Mr Softy\n\n\n\n\n\n\n\n\n
 \n\n\n\n\n\n\n\n\n\n\n\nAs a Virgin scribe\, I didn’t want to make too m
 uch of a hash of this. (See what I did there!)\n\nSo Hash 1219 started at 
 Kingsbridge Rugby Club attended by 3 (Not 2 Virgins) – The third a teach
 er at KCC – No Principal’s may need to discuss with her\, her willingn
 ess or otherwise to be exposed to the initiation ceremony overseen by Over
 shot…\n\nGiven the location of the hash there was a tendency towards pun
 s during the introduction which I will try to avoid in the scribe.\n\nNO
  CHECKs – was the shout of the evening – As somebody who generally run
 s a bit further down the order – I didn’t actually notice. But for Blu
 e Nun &amp\; Olive the humiliating penalty of having their checkless run
  equated to a litre of red wine in a plastic bottle may have been the reas
 on that they were seen propping the bar up for most of the evening.\n\nA 
 ban was announced for non-South-Hammians/Hammers/Hamonians (Not sure of th
 e correct word) after Halloween provided a deal isn’t done! Exceptions m
 ade for NHS staff or fees paid to Overshot.\n\nSo we had a few hashers fin
 ding that in the newly fading light that they were lost (on a route with n
 o checks?) Olive – whilst laying – I assume the hash? Re-entry when he
  went back on the shorts - and that wasn’t the Ameretto? Pocket Rocket 
 when following the man they call Whisperer – Given Overshot’s (Apparen
 tly he only has 2 months left in the role) reiteration of the rules around
  distance of hash 10 miles does seem excessive – although they did get b
 ack dry Mr Softy &amp\; Ice Ice Baby even go lost having followed an arrow
  straight into the dead end of a field.\n\nWe were joined at the Rugby Clu
 b (But not the Hash) by Martin Longley martinlongley@hotmail.com who is 
 setting up a Park Run at Bolberry Down – Any support from members of SH4
  would be greatly appreciated and he may even join us on a Hash!\n\nWinnie
  the Pooh &amp\; Blown Off have apparently been training at altitude – W
 innie the Pooh was like Terminator according to Rizzo – So maybe trainin
 g with Attitude? – I’ll be back.\n\nThe two Virgins from Kingsbridge 
 &amp\; AEVeton Gifford – Charles forgot a torch but was provided a penci
 l by Rizzo with which to see.. Apparently he was a friend of Dead Man Walk
 ing who not only didn’t discuss the need for light but also refused him 
 a lift. Let’s hope they are converted to hashing.\n\nWe celebrated 100
 K for Squash Balls car\, 2 dogs &amp\; Dead Man Walking’s birthday – I
  wasn’t clear whether 2 dogs was a Hash name\, Two Dogs or the Down Down
 s?\n\nSo in Summary\n\n\n 	The Jerk received a 300 Wasted Wednesday’s T 
 Shirt\n 	Down Downs for Blue Nun &amp\; Olive\, Winnie the Pooh\, Two Virg
 ins\, Bee flicker and Dead Man Walking.\n 	Finally No Principals younger s
 on was named – Captain Underpants due to a bid he made for Flage No Lay'
 s knickers at the East Allington Hash – A Tenner…\n\n\nON ON to Rose &
 amp\; Crown Yealmpton\n\n\n\n\n\n\n\n
CATEGORIES:Hash Trails
LOCATION:Kingsbridge Rugby Club High House\, Kingsbridge\, England\, TQ7 1J
 U\, Devon
GEO:50.28048206500191;-3.7698125839233403
X-APPLE-STRUCTURED-LOCATION;VALUE=URI;X-ADDRESS=High House\, Kingsbridge\, 
 England\, TQ7 1JU\, Devon\, United Kingdom;X-APPLE-RADIUS=100;X-TITLE=King
 sbridge Rugby Club:geo:50.28048206500191,-3.7698125839233403
END:VEVENT
BEGIN:VTIMEZONE
TZID:Europe/London
X-LIC-LOCATION:Europe/London
BEGIN:DAYLIGHT
DTSTART:20190331T020000
TZOFFSETFROM:+0000
TZOFFSETTO:+0100
TZNAME:BST
END:DAYLIGHT
END:VTIMEZONE
END:VCALENDAR