BEGIN:VCALENDAR
VERSION:2.0
PRODID:-//wp-events-plugin.com//7.2.3.1//EN
TZID:Europe/London
X-WR-TIMEZONE:Europe/London
BEGIN:VEVENT
UID:255@sh4.org.uk
DTSTART;TZID=Europe/London:20191002T193000
DTEND;TZID=Europe/London:20191002T230000
DTSTAMP:20191112T220654Z
URL:https://www.sh4.org.uk/events/hash-1221/
SUMMARY:South Hams H4 Hash 1221 - Dartbridge Inn
DESCRIPTION:\n\n\n\n\n\n\n\n\n\n\n\nThe Words Hash  1221 according to UBe
 nd\n\n\n\n\n\n\n\n\n\n\n\n\n\n\n\n\n\n\n\nAfter enjoying a wonderful sunny
  day I decided it was about time I joined SH4 at the Dartbridge Inn\, Buck
 fastleigh for a nice evening run.\n\nAfter the usual shouts from the GM of
  “gather round gather round” he looked at me\, then shouted\, “nice 
 to see you back Ubend\, your turn to write the words”.\n\nSo here I sit 
 on a nice sunny Sunday afternoon thinking I wish I had taken some notes of
  my own after trying to read the notes Spotty Botty had scribbled as the e
 venings RA.\n\nWhat I do remember of the hash was the hills and more hills
 . I was struggling myself and the only two hashers I remember passing were
  Rubbery &amp\; Jyde.\n\nInstances on the hash included\n\n•    Overs
 hot\, Shirt Lifter\, &amp\; Whisperer running in three different direction
 s from a check with all three returning saying there is a cross on the roa
 d\, but was it a cross or a dot Whisperer.?\n\n•    Rubbery trying to
  barge fellow hasher Gaffer over\n\n•    There was a report of Hue &a
 mp\; Cry warning any Harriets in his vicinity to be aware he might poke th
 em with his pole. (Not sure what that was all about)\n\n•    There wa
 s a typical statement from Hare Gomez telling Goolie and others there was 
 only one hill on the hash!!. All lies of course.\n\n•    Piss bag was
  not happy at being splashed\n\n•    Barbie &amp\; lotarse getting lo
 st\n\n•    Flage  no lay &amp\; Spotty botty giving it loads of chat
 \n\n•    Dimmers and Rubbery turned up in the pub after with no shoes
  on.\n\n•    Andy\, Doggy Styles husband\, was named Tight Nuts.\n\n
 •    And the usual birthday song to Piss Bag.\n\nWell done to the har
 es Gomez &amp\; Morticia for a great hash. Down downs awarded to \;\n\nMor
 ticia\nGomez\nHue &amp\; Cry\nPiss bag\nTight Nuts\nOvershot\n\nOn On\n\nU
 bend\n\n\n\n\n\n\n\n(food must be ordered 2-3 days in advance) - \n\n\n\n\
 n\n\n\n\n\n\n\nThe Words Hash  1221 according to UBend\n\n\n\n\n\n\n\n\n
 \n\n\n\n\n\n\n\n\n\n\nAfter enjoying a wonderful sunny day I decided it wa
 s about time I joined SH4 at the Dartbridge Inn\, Buckfastleigh for a nice
  evening run.\n\nAfter the usual shouts from the GM of “gather round gat
 her round” he looked at me\, then shouted\, “nice to see you back Uben
 d\, your turn to write the words”.\n\nSo here I sit on a nice sunny Sund
 ay afternoon thinking I wish I had taken some notes of my own after trying
  to read the notes Spotty Botty had scribbled as the evenings RA.\n\nWhat 
 I do remember of the hash was the hills and more hills. I was struggling m
 yself and the only two hashers I remember passing were Rubbery &amp\; Jyde
 .\n\nInstances on the hash included\n\n•    Overshot\, Shirt Lifter\,
  &amp\; Whisperer running in three different directions from a check with 
 all three returning saying there is a cross on the road\, but was it a cro
 ss or a dot Whisperer.?\n\n•    Rubbery trying to barge fellow hasher
  Gaffer over\n\n•    There was a report of Hue &amp\; Cry warning any
  Harriets in his vicinity to be aware he might poke them with his pole. (N
 ot sure what that was all about)\n\n•    There was a typical statemen
 t from Hare Gomez telling Goolie and others there was only one hill on the
  hash!!. All lies of course.\n\n•    Piss bag was not happy at being 
 splashed\n\n•    Barbie &amp\; lotarse getting lost\n\n•    Flag
 e  no lay &amp\; Spotty botty giving it loads of chat\n\n•    Dimmer
 s and Rubbery turned up in the pub after with no shoes on.\n\n•    An
 dy\, Doggy Styles husband\, was named Tight Nuts.\n\n•    And the usu
 al birthday song to Piss Bag.\n\nWell done to the hares Gomez &amp\; Morti
 cia for a great hash. Down downs awarded to \;\n\nMorticia\nGomez\nHue &am
 p\; Cry\nPiss bag\nTight Nuts\nOvershot\n\nOn On\n\nUbend\n\n\n\n\n\n\n\n(
 food must be ordered 2-3 days in advance)
CATEGORIES:Hash Trails
LOCATION:Dartbridge Inn Totnes Rd\, South Hams\, England\, TQ11 0LN\, Devon
GEO:50.480015;-3.763097
X-APPLE-STRUCTURED-LOCATION;VALUE=URI;X-ADDRESS=Totnes Rd\, South Hams\, En
 gland\, TQ11 0LN\, Devon\, United Kingdom;X-APPLE-RADIUS=100;X-TITLE=Dartb
 ridge Inn:geo:50.480015,-3.763097
END:VEVENT
BEGIN:VTIMEZONE
TZID:Europe/London
X-LIC-LOCATION:Europe/London
BEGIN:DAYLIGHT
DTSTART:20190331T020000
TZOFFSETFROM:+0000
TZOFFSETTO:+0100
TZNAME:BST
END:DAYLIGHT
END:VTIMEZONE
END:VCALENDAR