BEGIN:VCALENDAR
VERSION:2.0
PRODID:-//wp-events-plugin.com//7.2.3.1//EN
TZID:Europe/London
X-WR-TIMEZONE:Europe/London
BEGIN:VEVENT
UID:259@sh4.org.uk
DTSTART;TZID=Europe/London:20191030T193000
DTEND;TZID=Europe/London:20191030T230000
DTSTAMP:20191112T215920Z
URL:https://www.sh4.org.uk/events/hash-1225/
SUMMARY:South Hams H4 Hash 1225 - Bolberry Down NT Car Park
DESCRIPTION:\n\n\n\n\n\n\n\n\n\n\nHash 1225 The Words according to Yeuck\n\
 n\n\n\n\n\n\n\n\n\n\n\n\n\n\n\n\n\nIt was raining ghouls and ghosts as we 
 assembled at a remote car park at Bolberry Down\n\nGing Gang and Filth had
  the ingenious idea to have the beer stop at the start of the trail\nWe we
 re treated to schnapps\,chocolate liqueur and home made muffins\nVery civi
 lised commented Rizzo\nUnfortunately Jyde missed out as he couldn't work o
 ut the child lock in Low tarses car\nWhisperer turned up just in time havi
 ng gone to Hope Cove first\n\nThe pack were brought to order by Overshot w
 ho kept his pre hash spiel to a minimum as we were buffeted by the wind an
 d rain\,he quickly introduced virgin John from Worcester and  sent us on 
 our way\n\nThe walkers headed off down the road led by Goolie towards Bolb
 erry\,turned right onto a green lane and back up and onto the road\,coveri
 ng about 2 1/4 miles\n\nThe shorts initially took the same route as the lo
 ngs\,parted ways up a long track\,skirted around the downs and headed home
  with approx 3 miles covered.\n\nGaffer and Sex Wax at some point took a t
 umble together nearly ending up in a prickly bush !\n\nThe longs went up a
 nd up\,took a right heading to Soar Mill and back along the coastal path\,
 notching up 4miles. Spotty Botty was running well tonight and could be cha
 llenging Rear Entry for the FRB spot. Also noted that on the other hand Ri
 zzo was on a go slow !\n\nBack at the carpark Gaffer was spotted pouring w
 ater over his already sodden body\,stating I've brought along hot water I'
 m not going to waste it.\n\nOn Down to the Cove at Hope Cove where fancy d
 ress costumes were admired and pizzas were devoured\n\nB Flicker was comme
 nded for taking on the hares role of sweeping the trails\n\nPiss Bag booke
 d a taxi straight to the pub as she didn't want to spoil her costume\n\nMi
 ss Mouthfull's costume was likened to a Chelsea housewife's attire\n\nStic
 ky Bush and Pi did their own run with Pi wading up to her knees in the sea
 !\n\nThere was concern for a lost TB until it was realised he was a local\
 n\nFoul language was uttered by Running Late (Anglo Saxon words)\n\nWilly 
 Waiver expressed concern that gates were being left open and he was having
  to close them all !\n\nGary Glitters daughter Cinders was welcomed back a
 fter 17 years and Hong Kong Fuey also made an appearance after 2 years ab
 sence (Cowpats grand daughter) Cowpat was bra-less and Low-Tarse knickerl
 ess due to the soaking they had had.\n\nDown Downs were given to:-\n\nFilt
 h\nCowpat\nJohn (virgin)\nB Flicker\nCinders\n\n\n\n\n\n\n\nHalloween Fanc
 y dress- Goth/Gothic- Day/Night/Week of the Dead! Wear On Hash at On Down 
 or both!\n\nOn Down the Cove Cafe Bar\, Hope Cove - \n\n\n\n\n\n\n\n\n\n\n
 Hash 1225 The Words according to Yeuck\n\n\n\n\n\n\n\n\n\n\n\n\n\n\n\n\n\n
 \nIt was raining ghouls and ghosts as we assembled at a remote car park at
  Bolberry Down\n\nGing Gang and Filth had the ingenious idea to have the b
 eer stop at the start of the trail\nWe were treated to schnapps\,chocolate
  liqueur and home made muffins\nVery civilised commented Rizzo\nUnfortunat
 ely Jyde missed out as he couldn't work out the child lock in Low tarses c
 ar\nWhisperer turned up just in time having gone to Hope Cove first\n\nThe
  pack were brought to order by Overshot who kept his pre hash spiel to a m
 inimum as we were buffeted by the wind and rain\,he quickly introduced vir
 gin John from Worcester and  sent us on our way\n\nThe walkers headed off
  down the road led by Goolie towards Bolberry\,turned right onto a green l
 ane and back up and onto the road\,covering about 2 1/4 miles\n\nThe short
 s initially took the same route as the longs\,parted ways up a long track\
 ,skirted around the downs and headed home with approx 3 miles covered.\n\n
 Gaffer and Sex Wax at some point took a tumble together nearly ending up i
 n a prickly bush !\n\nThe longs went up and up\,took a right heading to So
 ar Mill and back along the coastal path\,notching up 4miles. Spotty Botty 
 was running well tonight and could be challenging Rear Entry for the FRB s
 pot. Also noted that on the other hand Rizzo was on a go slow !\n\nBack at
  the carpark Gaffer was spotted pouring water over his already sodden body
 \,stating I've brought along hot water I'm not going to waste it.\n\nOn Do
 wn to the Cove at Hope Cove where fancy dress costumes were admired and pi
 zzas were devoured\n\nB Flicker was commended for taking on the hares role
  of sweeping the trails\n\nPiss Bag booked a taxi straight to the pub as s
 he didn't want to spoil her costume\n\nMiss Mouthfull's costume was likene
 d to a Chelsea housewife's attire\n\nSticky Bush and Pi did their own run 
 with Pi wading up to her knees in the sea!\n\nThere was concern for a lost
  TB until it was realised he was a local\n\nFoul language was uttered by R
 unning Late (Anglo Saxon words)\n\nWilly Waiver expressed concern that gat
 es were being left open and he was having to close them all !\n\nGary Glit
 ters daughter Cinders was welcomed back after 17 years and Hong Kong Fuey
  also made an appearance after 2 years absence (Cowpats grand daughter) C
 owpat was bra-less and Low-Tarse knickerless due to the soaking they had h
 ad.\n\nDown Downs were given to:-\n\nFilth\nCowpat\nJohn (virgin)\nB Flick
 er\nCinders\n\n\n\n\n\n\n\nHalloween Fancy dress- Goth/Gothic- Day/Night/W
 eek of the Dead! Wear On Hash at On Down or both!\n\nOn Down the Cove Cafe
  Bar\, Hope Cove
CATEGORIES:Hash Trails
LOCATION:Bolberry Down NT Car Park Bolberry Down\, Malborough\, England\, T
 Q7 3DY\, Devon
GEO:50.231579;-3.839193
X-APPLE-STRUCTURED-LOCATION;VALUE=URI;X-ADDRESS=Bolberry Down\, Malborough\
 , England\, TQ7 3DY\, Devon\, United Kingdom;X-APPLE-RADIUS=100;X-TITLE=Bo
 lberry Down NT Car Park:geo:50.231579,-3.839193
END:VEVENT
BEGIN:VTIMEZONE
TZID:Europe/London
X-LIC-LOCATION:Europe/London
BEGIN:STANDARD
DTSTART:20191027T010000
TZOFFSETFROM:+0100
TZOFFSETTO:+0000
TZNAME:GMT
END:STANDARD
END:VTIMEZONE
END:VCALENDAR