BEGIN:VCALENDAR
VERSION:2.0
PRODID:-//wp-events-plugin.com//7.2.3.1//EN
TZID:Europe/London
X-WR-TIMEZONE:Europe/London
BEGIN:VEVENT
UID:271@sh4.org.uk
DTSTART;TZID=Europe/London:20191218T193000
DTEND;TZID=Europe/London:20191218T230000
DTSTAMP:20200108T084140Z
URL:https://www.sh4.org.uk/events/hash-1234-2/
SUMMARY:South Hams H4 Hash 1234 - Village Inn - Thurlestone
DESCRIPTION:Xmas Carol Singing\, Mulled Wine Drinking\, bit of hashing kind
  of Hash!\n\nFancy dress..... Christmassy I think? Ask the GM!\n\n\n\n\n\n
 \n\n\n\n\n\nThe words according to Cow Pat\n\n\n\n\n\n\n\n\n\n\n\n\n\n\n\n
 \n\n\nHash Number 1234\n\nWe congregated at the telephone box in Thurlesto
 ne village – aka the library.  The super heroes of the day were Blue Nu
 n and Olive who had braved the storms and laid our Christmas trail. Past C
 hristmas hashes have been known for minimal running and maximum singing an
 d drinking\, but no\, tonight was to be 4.5 miles for the short 2.5 for 
 the walkers and heaven only knows for the longs!\nBefore we set off into t
 he dark and windy night\, we sang the Wednesday hash carol. With much grum
 bling we headed out to the coast path where we were blown off our feet and
  skied and skidded our way along the muddy tracks\, eventually meeting up 
 at the hares’ pad for mulled wine\, mincepies and more carols\, or more 
 specifically for myself and my kind minder Gomez\, trailing badly at the e
 nd of the hash\, Ameretto\, mincepies and no carols.\nAt the Village Inn B
 lue nun was sporting a rather loud honking horn and Olive a fetching Chris
 tmas onesie.\nA jolly time was had by all\, with a parade of Christmas jum
 pers\, throw the parcel across the room and read out groanworthy jokes\, t
 able dancing by Ging Gang and Pole dancing by Doggystyle\, Dead Man Walkin
 g and Pony Shafter enjoyed an intimate moment and Whisperer’s tattoos we
 re revealed to be on his teeshirt only.\nThe RA\, who happened to be our n
 ew GM\, denied that his dog had done a woopsie in someone’s front garden
 \, and after the happy birthday song tunelessly sung to Twisted Sister and
  Beeflicker\, awarded a 200th run tee shirt to Knockers and thanked Runni
 ng Late for his honking horn.\nDowndowns to:\nThe hares\, Blue Nun and Oli
 ve\, Birthdays – Twisted Sister and Beeflicker\, Knockers for finally ea
 rning her 200th run shirt and Running Late for the horn.\nTo end the even
 ing\, we sang the 12 days of Christmas\, hash style and brought the house 
 down.\n\nThere will be a Boxing Day hash at Challaborough at 12.30 courtes
 y of Goolie\n\n\n\n\n\n\n - Xmas Carol Singing\, Mulled Wine Drinking\, bi
 t of hashing kind of Hash!\n\nFancy dress..... Christmassy I think? Ask th
 e GM!\n\n\n\n\n\n\n\n\n\n\n\nThe words according to Cow Pat\n\n\n\n\n\n\n\
 n\n\n\n\n\n\n\n\n\n\n\nHash Number 1234\n\nWe congregated at the telephone
  box in Thurlestone village – aka the library.  The super heroes of the
  day were Blue Nun and Olive who had braved the storms and laid our Christ
 mas trail. Past Christmas hashes have been known for minimal running and m
 aximum singing and drinking\, but no\, tonight was to be 4.5 miles for t
 he short 2.5 for the walkers and heaven only knows for the longs!\nBefore 
 we set off into the dark and windy night\, we sang the Wednesday hash caro
 l. With much grumbling we headed out to the coast path where we were blown
  off our feet and skied and skidded our way along the muddy tracks\, event
 ually meeting up at the hares’ pad for mulled wine\, mincepies and more 
 carols\, or more specifically for myself and my kind minder Gomez\, traili
 ng badly at the end of the hash\, Ameretto\, mincepies and no carols.\nAt 
 the Village Inn Blue nun was sporting a rather loud honking horn and Olive
  a fetching Christmas onesie.\nA jolly time was had by all\, with a parade
  of Christmas jumpers\, throw the parcel across the room and read out groa
 nworthy jokes\, table dancing by Ging Gang and Pole dancing by Doggystyle\
 , Dead Man Walking and Pony Shafter enjoyed an intimate moment and Whisper
 er’s tattoos were revealed to be on his teeshirt only.\nThe RA\, who hap
 pened to be our new GM\, denied that his dog had done a woopsie in someone
 ’s front garden\, and after the happy birthday song tunelessly sung to T
 wisted Sister and Beeflicker\, awarded a 200th run tee shirt to Knockers 
 and thanked Running Late for his honking horn.\nDowndowns to:\nThe hares\,
  Blue Nun and Olive\, Birthdays – Twisted Sister and Beeflicker\, Knocke
 rs for finally earning her 200th run shirt and Running Late for the horn.
 \nTo end the evening\, we sang the 12 days of Christmas\, hash style and b
 rought the house down.\n\nThere will be a Boxing Day hash at Challaborough
  at 12.30 courtesy of Goolie\n\n\n\n\n\n\n
CATEGORIES:Hash Trails
LOCATION:Village Inn - Thurlestone The Village Inn\, Thurlestone\, England\
 , TQ7 3NN\, Devon
GEO:50.271017;-3.861496
X-APPLE-STRUCTURED-LOCATION;VALUE=URI;X-ADDRESS=The Village Inn\, Thurlesto
 ne\, England\, TQ7 3NN\, Devon\, United Kingdom;X-APPLE-RADIUS=100;X-TITLE
 =Village Inn - Thurlestone:geo:50.271017,-3.861496
END:VEVENT
BEGIN:VTIMEZONE
TZID:Europe/London
X-LIC-LOCATION:Europe/London
BEGIN:STANDARD
DTSTART:20191027T010000
TZOFFSETFROM:+0100
TZOFFSETTO:+0000
TZNAME:GMT
END:STANDARD
END:VTIMEZONE
END:VCALENDAR