BEGIN:VCALENDAR
VERSION:2.0
PRODID:-//wp-events-plugin.com//7.2.3.1//EN
TZID:Europe/London
X-WR-TIMEZONE:Europe/London
BEGIN:VEVENT
UID:274@sh4.org.uk
DTSTART;TZID=Europe/London:20200108T193000
DTEND;TZID=Europe/London:20200108T230000
DTSTAMP:20200214T185742Z
URL:https://www.sh4.org.uk/events/hash-1237/
SUMMARY:South Hams H4 Hash 1237 - First & Last Bistro
DESCRIPTION:\n\n\n\n\n\n\n\n\n\n\n\nThe words according to Coming Soon\n\n\
 n\n\n\n\n\n\n\n\n\n\n\n\n\n\n\n\n\n\n\nSo much for dry January\, not long 
 after leaving the pub\, and everyone was soaked. Visibility was definitely
  an issue this week’s hash\, the dark winter night and driving rain made
  spotting the signs a little tricky.\nThe longs had difficulty telling the
  difference between an L and a W. Re-entry and four others ran through the
  rarely used Fishhook because they didn’t see it. Well that was the excu
 se anyway.\nThe slippery mud made for some fun sliding. Piltdown Man manag
 ing a 720° spin over the river bank. New hasher Steph started off with Ba
 rbarella but became isolated\, until rescued by Ride along Rick who is us
 ed to picking up virgins in the dark.\nIt was an eventful night for Good S
 hag – not only did she manage to twist her ankle\, but also blocked a fi
 re engine on its way to a chimney fire and Whatsapp called Coming Soon wit
 h her boob. Blocking traffic was a theme of the night with 2nd Time Tim tr
 apping another car in the car park. All in all\, a well laid hash with ple
 nty of off road running and sliding.\nBack at the pub\, like drowned rats\
 , it was time to relax. Lo-Tarse received her 500 hash vest\, quite an ach
 ievement. Down downs were awarded to Virgin Step\, Ride along Rick for her
  rescue in the dark.  Good shag for inventing a new form of sexting\, the
  Hares Hekyl and Jyde and Lo-Tarse for the 500.\nNext hash will be West Al
 vington\, school stomping ground of Overshot. On On!\n\n\n\n\n\n\n\n - \n\
 n\n\n\n\n\n\n\n\n\n\nThe words according to Coming Soon\n\n\n\n\n\n\n\n\n\
 n\n\n\n\n\n\n\n\n\n\n\n\nSo much for dry January\, not long after leaving 
 the pub\, and everyone was soaked. Visibility was definitely an issue this
  week’s hash\, the dark winter night and driving rain made spotting the 
 signs a little tricky.\nThe longs had difficulty telling the difference be
 tween an L and a W. Re-entry and four others ran through the rarely used F
 ishhook because they didn’t see it. Well that was the excuse anyway.\nTh
 e slippery mud made for some fun sliding. Piltdown Man managing a 720° sp
 in over the river bank. New hasher Steph started off with Barbarella but b
 ecame isolated\, until rescued by Ride along Rick who is used to picking 
 up virgins in the dark.\nIt was an eventful night for Good Shag – not on
 ly did she manage to twist her ankle\, but also blocked a fire engine on i
 ts way to a chimney fire and Whatsapp called Coming Soon with her boob. Bl
 ocking traffic was a theme of the night with 2nd Time Tim trapping another
  car in the car park. All in all\, a well laid hash with plenty of off roa
 d running and sliding.\nBack at the pub\, like drowned rats\, it was time 
 to relax. Lo-Tarse received her 500 hash vest\, quite an achievement. Down
  downs were awarded to Virgin Step\, Ride along Rick for her rescue in the
  dark.  Good shag for inventing a new form of sexting\, the Hares Hekyl a
 nd Jyde and Lo-Tarse for the 500.\nNext hash will be West Alvington\, scho
 ol stomping ground of Overshot. On On!\n\n\n\n\n\n\n\n
CATEGORIES:Hash Trails
LOCATION:First & Last Bistro The First &amp\; Last \, Ermington\, Devon\, P
 L21 9NJ
GEO:50.36297;-3.914945
X-APPLE-STRUCTURED-LOCATION;VALUE=URI;X-ADDRESS=The First & Last \, Ermingt
 on\, Devon\, PL21 9NJ\, United Kingdom;X-APPLE-RADIUS=100;X-TITLE=First & 
 Last Bistro:geo:50.36297,-3.914945
END:VEVENT
BEGIN:VTIMEZONE
TZID:Europe/London
X-LIC-LOCATION:Europe/London
BEGIN:STANDARD
DTSTART:20191027T010000
TZOFFSETFROM:+0100
TZOFFSETTO:+0000
TZNAME:GMT
END:STANDARD
END:VTIMEZONE
END:VCALENDAR