BEGIN:VCALENDAR
VERSION:2.0
PRODID:-//wp-events-plugin.com//7.2.3.1//EN
TZID:Europe/London
X-WR-TIMEZONE:Europe/London
BEGIN:VEVENT
UID:278@sh4.org.uk
DTSTART;TZID=Europe/London:20200212T193000
DTEND;TZID=Europe/London:20200212T230000
DTSTAMP:20200108T083427Z
URL:https://www.sh4.org.uk/events/hash-1244/
SUMMARY:South Hams H4 Hash 1244 - Station House Hotel
DESCRIPTION: - 
CATEGORIES:Hash Trails
LOCATION:Station House Hotel Station House Hotel\, South Brent\, England\, 
 TQ10 9BE\, Devon
GEO:50.427097;-3.833953
X-APPLE-STRUCTURED-LOCATION;VALUE=URI;X-ADDRESS=Station House Hotel\, South
  Brent\, England\, TQ10 9BE\, Devon\, United Kingdom;X-APPLE-RADIUS=100;X-
 TITLE=Station House Hotel:geo:50.427097,-3.833953
END:VEVENT
BEGIN:VTIMEZONE
TZID:Europe/London
X-LIC-LOCATION:Europe/London
BEGIN:STANDARD
DTSTART:20191027T010000
TZOFFSETFROM:+0100
TZOFFSETTO:+0000
TZNAME:GMT
END:STANDARD
END:VTIMEZONE
END:VCALENDAR