BEGIN:VCALENDAR
VERSION:2.0
PRODID:-//wp-events-plugin.com//7.2.3.1//EN
TZID:Europe/London
X-WR-TIMEZONE:Europe/London
BEGIN:VEVENT
UID:284@sh4.org.uk
DTSTART;TZID=Europe/London:20200318T193000
DTEND;TZID=Europe/London:20200318T230000
DTSTAMP:20200226T184730Z
URL:https://www.sh4.org.uk/events/hash-1249/
SUMMARY:South Hams H4 Hash 1249 - Leonards Road Car Park
DESCRIPTION:On Down at the Imperial Inn\n\n28 Western Rd\, Ivybridge PL21 9
 AN - On Down at the Imperial Inn\n\n28 Western Rd\, Ivybridge PL21 9AN
CATEGORIES:Hash Trails
LOCATION:Leonards Road Car Park Leonards Road\, Ivybridge\, PL21 0SL
GEO:50.388566;-3.919294
X-APPLE-STRUCTURED-LOCATION;VALUE=URI;X-ADDRESS=Leonards Road\, Ivybridge\,
  PL21 0SL\, United Kingdom;X-APPLE-RADIUS=100;X-TITLE=Leonards Road Car Pa
 rk:geo:50.388566,-3.919294
END:VEVENT
BEGIN:VTIMEZONE
TZID:Europe/London
X-LIC-LOCATION:Europe/London
BEGIN:STANDARD
DTSTART:20191027T010000
TZOFFSETFROM:+0100
TZOFFSETTO:+0000
TZNAME:GMT
END:STANDARD
END:VTIMEZONE
END:VCALENDAR