BEGIN:VCALENDAR
VERSION:2.0
PRODID:-//wp-events-plugin.com//7.2.3.1//EN
TZID:Europe/London
X-WR-TIMEZONE:Europe/London
BEGIN:VEVENT
UID:292@sh4.org.uk
DTSTART;TZID=Europe/London:20200909T173000
DTEND;TZID=Europe/London:20200909T193000
DTSTAMP:20200906T142607Z
URL:https://www.sh4.org.uk/events/hash-1255/
SUMMARY:South Hams H4 Hash 1255 - Venford Dam Car Park
DESCRIPTION:This will be the first of the new 2 wave Hashes\, 17.30 and 19.
 30. The 14.30 Hash is now dropped from the line up. - This will be the fir
 st of the new 2 wave Hashes\, 17.30 and 19.30. The 14.30 Hash is now dropp
 ed from the line up.
CATEGORIES:Hash Trails
LOCATION:Venford Dam Car Park Venford Dam Car Park\, Venford Dam\, Devon
GEO:50.526165;-3.856028
X-APPLE-STRUCTURED-LOCATION;VALUE=URI;X-ADDRESS=Venford Dam Car Park\, Venf
 ord Dam\, Devon\, United Kingdom;X-APPLE-RADIUS=100;X-TITLE=Venford Dam Ca
 r Park:geo:50.526165,-3.856028
END:VEVENT
BEGIN:VTIMEZONE
TZID:Europe/London
X-LIC-LOCATION:Europe/London
BEGIN:DAYLIGHT
DTSTART:20200329T020000
TZOFFSETFROM:+0000
TZOFFSETTO:+0100
TZNAME:BST
END:DAYLIGHT
END:VTIMEZONE
END:VCALENDAR