BEGIN:VCALENDAR
VERSION:2.0
PRODID:-//wp-events-plugin.com//7.2.3.1//EN
TZID:Europe/London
X-WR-TIMEZONE:Europe/London
BEGIN:VEVENT
UID:296@sh4.org.uk
DTSTART;TZID=Europe/London:20200930T173000
DTEND;TZID=Europe/London:20200930T213000
DTSTAMP:20200929T203055Z
URL:https://www.sh4.org.uk/events/hash-1258/
SUMMARY:South Hams H4 Hash 1258 - Salcombe Park And Ride Car Park
DESCRIPTION: - 
CATEGORIES:Hash Trails
LOCATION:Salcombe Park And Ride Car Park Bonfire Hill\, Salcombe\, Devon\, 
 TQ8 8FG
GEO:50.240002;-3.777997
X-APPLE-STRUCTURED-LOCATION;VALUE=URI;X-ADDRESS=Bonfire Hill\, Salcombe\, D
 evon\, TQ8 8FG\, United Kingdom;X-APPLE-RADIUS=100;X-TITLE=Salcombe Park A
 nd Ride Car Park:geo:50.240002,-3.777997
END:VEVENT
BEGIN:VTIMEZONE
TZID:Europe/London
X-LIC-LOCATION:Europe/London
BEGIN:DAYLIGHT
DTSTART:20200329T020000
TZOFFSETFROM:+0000
TZOFFSETTO:+0100
TZNAME:BST
END:DAYLIGHT
END:VTIMEZONE
END:VCALENDAR