BEGIN:VCALENDAR
VERSION:2.0
PRODID:-//wp-events-plugin.com//7.2.3.1//EN
TZID:Europe/London
X-WR-TIMEZONE:Europe/London
BEGIN:VEVENT
UID:307@sh4.org.uk
DTSTART;TZID=Europe/London:20201202T173000
DTEND;TZID=Europe/London:20201202T220000
DTSTAMP:20201126T183321Z
URL:https://www.sh4.org.uk/events/hash-1264/
SUMMARY:South Hams H4 Hash 1264 - Strete Gate Car Park
DESCRIPTION: - 
CATEGORIES:Hash Trails
LOCATION:Strete Gate Car Park Strete Gate Car Park\, Strete
GEO:50.298319;-3.637607
X-APPLE-STRUCTURED-LOCATION;VALUE=URI;X-ADDRESS=Strete Gate Car Park\, Stre
 te\, United Kingdom;X-APPLE-RADIUS=100;X-TITLE=Strete Gate Car Park:geo:50
 .298319,-3.637607
END:VEVENT
BEGIN:VTIMEZONE
TZID:Europe/London
X-LIC-LOCATION:Europe/London
BEGIN:STANDARD
DTSTART:20201025T010000
TZOFFSETFROM:+0100
TZOFFSETTO:+0000
TZNAME:GMT
END:STANDARD
END:VTIMEZONE
END:VCALENDAR