BEGIN:VCALENDAR
VERSION:2.0
PRODID:-//wp-events-plugin.com//7.2.3.1//EN
TZID:Europe/London
X-WR-TIMEZONE:Europe/London
BEGIN:VEVENT
UID:311@sh4.org.uk
DTSTART;TZID=Europe/London:20201223T173000
DTEND;TZID=Europe/London:20201223T220000
DTSTAMP:20201223T142041Z
URL:https://www.sh4.org.uk/events/hash-1267/
SUMMARY:South Hams H4 Hash 1267 - Thurlestone Sands Beach Car Park
DESCRIPTION: - 
CATEGORIES:Hash Trails
LOCATION:Thurlestone Sands Beach Car Park Beach Car Park\, South Milton\, E
 ngland\, TQ7 3JS\, Devon
GEO:50.262738;-3.85863
X-APPLE-STRUCTURED-LOCATION;VALUE=URI;X-ADDRESS=Beach Car Park\, South Milt
 on\, England\, TQ7 3JS\, Devon\, United Kingdom;X-APPLE-RADIUS=100;X-TITLE
 =Thurlestone Sands Beach Car Park:geo:50.262738,-3.85863
END:VEVENT
BEGIN:VTIMEZONE
TZID:Europe/London
X-LIC-LOCATION:Europe/London
BEGIN:STANDARD
DTSTART:20201025T010000
TZOFFSETFROM:+0100
TZOFFSETTO:+0000
TZNAME:GMT
END:STANDARD
END:VTIMEZONE
END:VCALENDAR