BEGIN:VCALENDAR
VERSION:2.0
PRODID:-//wp-events-plugin.com//7.2.3.1//EN
TZID:Europe/London
X-WR-TIMEZONE:Europe/London
BEGIN:VEVENT
UID:316@sh4.org.uk
DTSTART;TZID=Europe/London:20210407T193000
DTEND;TZID=Europe/London:20210407T223000
DTSTAMP:20210928T095439Z
URL:https://www.sh4.org.uk/events/hash-1283/
SUMMARY:South Hams H4 Hash 1283 - Ivybridge Railway Station Car Park
DESCRIPTION: - 
CATEGORIES:Hash Trails
LOCATION:Ivybridge Railway Station Car Park 48 Weatherdon Dr\, Ivybridge\, 
 PL21 0DD
GEO:50.394567;-3.901026
X-APPLE-STRUCTURED-LOCATION;VALUE=URI;X-ADDRESS=48 Weatherdon Dr\, Ivybridg
 e\, PL21 0DD\, United Kingdom;X-APPLE-RADIUS=100;X-TITLE=Ivybridge Railway
  Station Car Park:geo:50.394567,-3.901026
END:VEVENT
BEGIN:VTIMEZONE
TZID:Europe/London
X-LIC-LOCATION:Europe/London
BEGIN:DAYLIGHT
DTSTART:20210328T020000
TZOFFSETFROM:+0000
TZOFFSETTO:+0100
TZNAME:BST
END:DAYLIGHT
END:VTIMEZONE
END:VCALENDAR