BEGIN:VCALENDAR
VERSION:2.0
PRODID:-//wp-events-plugin.com//7.2.3.1//EN
TZID:Europe/London
X-WR-TIMEZONE:Europe/London
BEGIN:VEVENT
UID:319@sh4.org.uk
DTSTART;TZID=Europe/London:20210428T193000
DTEND;TZID=Europe/London:20210428T220000
DTSTAMP:20210416T132803Z
URL:https://www.sh4.org.uk/events/hash-1286/
SUMMARY:South Hams H4 Hash 1286 - Hembury Woods Car Park
DESCRIPTION: - 
CATEGORIES:Hash Trails
LOCATION:Hembury Woods Car Park Hembury Woods Car Park\, Buckfastleigh
GEO:50.498005;-3.791626
X-APPLE-STRUCTURED-LOCATION;VALUE=URI;X-ADDRESS=Hembury Woods Car Park\, Bu
 ckfastleigh\, United Kingdom;X-APPLE-RADIUS=100;X-TITLE=Hembury Woods Car 
 Park:geo:50.498005,-3.791626
END:VEVENT
BEGIN:VTIMEZONE
TZID:Europe/London
X-LIC-LOCATION:Europe/London
BEGIN:DAYLIGHT
DTSTART:20210328T020000
TZOFFSETFROM:+0000
TZOFFSETTO:+0100
TZNAME:BST
END:DAYLIGHT
END:VTIMEZONE
END:VCALENDAR