BEGIN:VCALENDAR
VERSION:2.0
PRODID:-//wp-events-plugin.com//7.2.3.1//EN
TZID:Europe/London
X-WR-TIMEZONE:Europe/London
BEGIN:VEVENT
UID:324@sh4.org.uk
DTSTART;TZID=Europe/London:20210526T193000
DTEND;TZID=Europe/London:20210526T220000
DTSTAMP:20210520T184458Z
URL:https://www.sh4.org.uk/events/hash-1290/
SUMMARY:South Hams H4 Hash 1290 - Riverside Road Car Park Dittisham
DESCRIPTION: - 
CATEGORIES:Hash Trails
LOCATION:Riverside Road Car Park Dittisham The Ham\, Dittisham\, England\, 
 TQ6 0HB\, Devon
GEO:50.384578;-3.59802
X-APPLE-STRUCTURED-LOCATION;VALUE=URI;X-ADDRESS=The Ham\, Dittisham\, Engla
 nd\, TQ6 0HB\, Devon\, United Kingdom;X-APPLE-RADIUS=100;X-TITLE=Riverside
  Road Car Park Dittisham:geo:50.384578,-3.59802
END:VEVENT
BEGIN:VTIMEZONE
TZID:Europe/London
X-LIC-LOCATION:Europe/London
BEGIN:DAYLIGHT
DTSTART:20210328T020000
TZOFFSETFROM:+0000
TZOFFSETTO:+0100
TZNAME:BST
END:DAYLIGHT
END:VTIMEZONE
END:VCALENDAR