BEGIN:VCALENDAR
VERSION:2.0
PRODID:-//wp-events-plugin.com//7.2.3.1//EN
TZID:Europe/London
X-WR-TIMEZONE:Europe/London
BEGIN:VEVENT
UID:326@sh4.org.uk
DTSTART;TZID=Europe/London:20210609T193000
DTEND;TZID=Europe/London:20210609T220000
DTSTAMP:20210604T215100Z
URL:https://www.sh4.org.uk/events/hash-1292/
SUMMARY:South Hams H4 Hash 1292 - Shipley Bridge
DESCRIPTION: - 
CATEGORIES:Hash Trails
LOCATION:Shipley Bridge Shipley Bridge\, South Brent\, TQ10 9EL
GEO:50.450891;-3.859462
X-APPLE-STRUCTURED-LOCATION;VALUE=URI;X-ADDRESS=Shipley Bridge\, South Bren
 t\, TQ10 9EL\, United Kingdom;X-APPLE-RADIUS=100;X-TITLE=Shipley Bridge:ge
 o:50.450891,-3.859462
END:VEVENT
BEGIN:VTIMEZONE
TZID:Europe/London
X-LIC-LOCATION:Europe/London
BEGIN:DAYLIGHT
DTSTART:20210328T020000
TZOFFSETFROM:+0000
TZOFFSETTO:+0100
TZNAME:BST
END:DAYLIGHT
END:VTIMEZONE
END:VCALENDAR