BEGIN:VCALENDAR
VERSION:2.0
PRODID:-//wp-events-plugin.com//7.2.3.1//EN
TZID:Europe/London
X-WR-TIMEZONE:Europe/London
BEGIN:VEVENT
UID:329@sh4.org.uk
DTSTART;TZID=Europe/London:20210620T103000
DTEND;TZID=Europe/London:20210620T113000
DTSTAMP:20210619T184435Z
URL:https://www.sh4.org.uk/events/hash-1295/
SUMMARY:South Hams H4 Hash 1295 - Alston Farm Campsite
DESCRIPTION: - 
CATEGORIES:Hash Trails
LOCATION:Alston Farm Campsite Alston Farm\, Malborough\, England\, TQ7 3BJ\
 , Devon
GEO:50.25319010206499;-3.7976495772626344
X-APPLE-STRUCTURED-LOCATION;VALUE=URI;X-ADDRESS=Alston Farm\, Malborough\, 
 England\, TQ7 3BJ\, Devon\, United Kingdom;X-APPLE-RADIUS=100;X-TITLE=Alst
 on Farm Campsite:geo:50.25319010206499,-3.7976495772626344
END:VEVENT
BEGIN:VTIMEZONE
TZID:Europe/London
X-LIC-LOCATION:Europe/London
BEGIN:DAYLIGHT
DTSTART:20210328T020000
TZOFFSETFROM:+0000
TZOFFSETTO:+0100
TZNAME:BST
END:DAYLIGHT
END:VTIMEZONE
END:VCALENDAR