BEGIN:VCALENDAR
VERSION:2.0
PRODID:-//wp-events-plugin.com//7.2.3.1//EN
TZID:Europe/London
X-WR-TIMEZONE:Europe/London
BEGIN:VEVENT
UID:331@sh4.org.uk
DTSTART;TZID=Europe/London:20210630T193000
DTEND;TZID=Europe/London:20210630T220000
DTSTAMP:20210626T124220Z
URL:https://www.sh4.org.uk/events/hash-1297/
SUMMARY:South Hams H4 Hash 1297 - Yealmpton\, Riverside Walk
DESCRIPTION: - 
CATEGORIES:Hash Trails
LOCATION:Yealmpton\, Riverside Walk Riverside Walk \, Yealmpton\, PL8 2LU
GEO:50.346748;-3.994732
X-APPLE-STRUCTURED-LOCATION;VALUE=URI;X-ADDRESS=Riverside Walk \, Yealmpton
 \, PL8 2LU\, United Kingdom;X-APPLE-RADIUS=100;X-TITLE=Yealmpton\, Riversi
 de Walk:geo:50.346748,-3.994732
END:VEVENT
BEGIN:VTIMEZONE
TZID:Europe/London
X-LIC-LOCATION:Europe/London
BEGIN:DAYLIGHT
DTSTART:20210328T020000
TZOFFSETFROM:+0000
TZOFFSETTO:+0100
TZNAME:BST
END:DAYLIGHT
END:VTIMEZONE
END:VCALENDAR