BEGIN:VCALENDAR
VERSION:2.0
PRODID:-//wp-events-plugin.com//7.2.3.1//EN
TZID:Europe/London
X-WR-TIMEZONE:Europe/London
BEGIN:VEVENT
UID:333@sh4.org.uk
DTSTART;TZID=Europe/London:20210714T193000
DTEND;TZID=Europe/London:20210714T220000
DTSTAMP:20210709T082215Z
URL:https://www.sh4.org.uk/events/hash-1299/
SUMMARY:South Hams H4 Hash 1299 - Timbers Car Park\, Aveton Gifford
DESCRIPTION: - 
CATEGORIES:Hash Trails
LOCATION:Timbers Car Park\, Aveton Gifford Tidal Road\, Aveton Gifford
GEO:50.310529;-3.837812
X-APPLE-STRUCTURED-LOCATION;VALUE=URI;X-ADDRESS=Tidal Road\, Aveton Gifford
 \, United Kingdom;X-APPLE-RADIUS=100;X-TITLE=Timbers Car Park\, Aveton Gif
 ford:geo:50.310529,-3.837812
END:VEVENT
BEGIN:VTIMEZONE
TZID:Europe/London
X-LIC-LOCATION:Europe/London
BEGIN:DAYLIGHT
DTSTART:20210328T020000
TZOFFSETFROM:+0000
TZOFFSETTO:+0100
TZNAME:BST
END:DAYLIGHT
END:VTIMEZONE
END:VCALENDAR