BEGIN:VCALENDAR
VERSION:2.0
PRODID:-//wp-events-plugin.com//7.2.3.1//EN
TZID:Europe/London
X-WR-TIMEZONE:Europe/London
BEGIN:VEVENT
UID:334@sh4.org.uk
DTSTART;TZID=Europe/London:20210721T193000
DTEND;TZID=Europe/London:20210721T220000
DTSTAMP:20210711T174213Z
URL:https://www.sh4.org.uk/events/hash-1300/
SUMMARY:South Hams H4 Hash 1300 - South Brent Station Car Park
DESCRIPTION:Circle up: South Brent Station Car Park\n\nOn Down: Station Hou
 se (No Comment's bar) \,opening at 7pm for exclusive use by the hash\; pos
 t hash hot food available\, £5 a head. - Circle up: South Brent Station C
 ar Park\n\nOn Down: Station House (No Comment's bar) \,opening at 7pm for 
 exclusive use by the hash\; post hash hot food available\, £5 a head.
CATEGORIES:Hash Trails
LOCATION:South Brent Station Car Park Station Car Park\, South Brent\, TQ10
  9AL
GEO:50.42761;-3.83444
X-APPLE-STRUCTURED-LOCATION;VALUE=URI;X-ADDRESS=Station Car Park\, South Br
 ent\, TQ10 9AL\, United Kingdom;X-APPLE-RADIUS=100;X-TITLE=South Brent Sta
 tion Car Park:geo:50.42761,-3.83444
END:VEVENT
BEGIN:VTIMEZONE
TZID:Europe/London
X-LIC-LOCATION:Europe/London
BEGIN:DAYLIGHT
DTSTART:20210328T020000
TZOFFSETFROM:+0000
TZOFFSETTO:+0100
TZNAME:BST
END:DAYLIGHT
END:VTIMEZONE
END:VCALENDAR