BEGIN:VCALENDAR
VERSION:2.0
PRODID:-//wp-events-plugin.com//7.2.3.1//EN
TZID:Europe/London
X-WR-TIMEZONE:Europe/London
BEGIN:VEVENT
UID:337@sh4.org.uk
DTSTART;TZID=Europe/London:20210811T193000
DTEND;TZID=Europe/London:20210811T220000
DTSTAMP:20210804T132304Z
URL:https://www.sh4.org.uk/events/hash-1303/
SUMMARY:South Hams H4 Hash 1303 - Crooked Spire
DESCRIPTION: - 
CATEGORIES:Hash Trails
LOCATION:Crooked Spire The Crooked Spire Inn\, Ermington\, Devon\, PL21 9LP
GEO:50.361819;-3.917028
X-APPLE-STRUCTURED-LOCATION;VALUE=URI;X-ADDRESS=The Crooked Spire Inn\, Erm
 ington\, Devon\, PL21 9LP\, United Kingdom;X-APPLE-RADIUS=100;X-TITLE=Croo
 ked Spire:geo:50.361819,-3.917028
END:VEVENT
BEGIN:VTIMEZONE
TZID:Europe/London
X-LIC-LOCATION:Europe/London
BEGIN:DAYLIGHT
DTSTART:20210328T020000
TZOFFSETFROM:+0000
TZOFFSETTO:+0100
TZNAME:BST
END:DAYLIGHT
END:VTIMEZONE
END:VCALENDAR