BEGIN:VCALENDAR
VERSION:2.0
PRODID:-//wp-events-plugin.com//7.2.3.1//EN
TZID:Europe/London
X-WR-TIMEZONE:Europe/London
BEGIN:VEVENT
UID:340@sh4.org.uk
DTSTART;TZID=Europe/London:20210901T193000
DTEND;TZID=Europe/London:20210901T220000
DTSTAMP:20210824T090608Z
URL:https://www.sh4.org.uk/events/hash-1306/
SUMMARY:South Hams H4 Hash 1306 - Grand View Road - Hope Cove
DESCRIPTION:Pre-order food from Hare: Chilli (meat or bean)\, jacket potato
 . - Pre-order food from Hare: Chilli (meat or bean)\, jacket potato.
CATEGORIES:Hash Trails
LOCATION:Grand View Road - Hope Cove Lothlorien\, Grand View Road\, Hope Co
 ve\, Devon\, TQ7 3HE
GEO:50.24763;-3.856737
X-APPLE-STRUCTURED-LOCATION;VALUE=URI;X-ADDRESS=Lothlorien\, Grand View Roa
 d\, Hope Cove\, Devon\, TQ7 3HE\, United Kingdom;X-APPLE-RADIUS=100;X-TITL
 E=Grand View Road - Hope Cove:geo:50.24763,-3.856737
END:VEVENT
BEGIN:VTIMEZONE
TZID:Europe/London
X-LIC-LOCATION:Europe/London
BEGIN:DAYLIGHT
DTSTART:20210328T020000
TZOFFSETFROM:+0000
TZOFFSETTO:+0100
TZNAME:BST
END:DAYLIGHT
END:VTIMEZONE
END:VCALENDAR