BEGIN:VCALENDAR
VERSION:2.0
PRODID:-//wp-events-plugin.com//7.2.3.1//EN
TZID:Europe/London
X-WR-TIMEZONE:Europe/London
BEGIN:VEVENT
UID:343@sh4.org.uk
DTSTART;TZID=Europe/London:20210922T193000
DTEND;TZID=Europe/London:20210922T220000
DTSTAMP:20210911T144119Z
URL:https://www.sh4.org.uk/events/hash-1309/
SUMMARY:South Hams H4 Hash 1309 - Ring O Bells
DESCRIPTION: - 
CATEGORIES:Hash Trails
LOCATION:Ring O Bells 6 Phoenix Place\, West Alvington\, England\, TQ7 3PG\
 , Devon
GEO:50.280761;-3.789772
X-APPLE-STRUCTURED-LOCATION;VALUE=URI;X-ADDRESS=6 Phoenix Place\, West Alvi
 ngton\, England\, TQ7 3PG\, Devon\, United Kingdom;X-APPLE-RADIUS=100;X-TI
 TLE=Ring O Bells:geo:50.280761,-3.789772
END:VEVENT
BEGIN:VTIMEZONE
TZID:Europe/London
X-LIC-LOCATION:Europe/London
BEGIN:DAYLIGHT
DTSTART:20210328T020000
TZOFFSETFROM:+0000
TZOFFSETTO:+0100
TZNAME:BST
END:DAYLIGHT
END:VTIMEZONE
END:VCALENDAR