BEGIN:VCALENDAR
VERSION:2.0
PRODID:-//wp-events-plugin.com//7.2.3.1//EN
TZID:Europe/London
X-WR-TIMEZONE:Europe/London
BEGIN:VEVENT
UID:347@sh4.org.uk
DTSTART;TZID=Europe/London:20211020T193000
DTEND;TZID=Europe/London:20211020T220000
DTSTAMP:20211004T233349Z
URL:https://www.sh4.org.uk/events/hash-1313/
SUMMARY:South Hams H4 Hash 1313 - Dolphin Inn - Kingston
DESCRIPTION: - 
CATEGORIES:Hash Trails
LOCATION:Dolphin Inn - Kingston The Dolphin\, Kingston\, Devon\, TQ7 4QE
GEO:50.314222;-3.91746
X-APPLE-STRUCTURED-LOCATION;VALUE=URI;X-ADDRESS=The Dolphin\, Kingston\, De
 von\, TQ7 4QE\, United Kingdom;X-APPLE-RADIUS=100;X-TITLE=Dolphin Inn - Ki
 ngston:geo:50.314222,-3.91746
END:VEVENT
BEGIN:VTIMEZONE
TZID:Europe/London
X-LIC-LOCATION:Europe/London
BEGIN:DAYLIGHT
DTSTART:20210328T020000
TZOFFSETFROM:+0000
TZOFFSETTO:+0100
TZNAME:BST
END:DAYLIGHT
END:VTIMEZONE
END:VCALENDAR