BEGIN:VCALENDAR
VERSION:2.0
PRODID:-//wp-events-plugin.com//7.2.3.1//EN
TZID:Europe/London
X-WR-TIMEZONE:Europe/London
BEGIN:VEVENT
UID:352@sh4.org.uk
DTSTART;TZID=Europe/London:20211124T193000
DTEND;TZID=Europe/London:20211124T223000
DTSTAMP:20211015T185807Z
URL:https://www.sh4.org.uk/events/hash-1318/
SUMMARY:South Hams H4 Hash 1318 - Church House Inn (Rattery)
DESCRIPTION: - 
CATEGORIES:Hash Trails
LOCATION:Church House Inn (Rattery) Church House Inn\, Rattery\, TQ10 9LD
GEO:50.4401899;-3.775626999999986
X-APPLE-STRUCTURED-LOCATION;VALUE=URI;X-ADDRESS=Church House Inn\, Rattery\
 , TQ10 9LD\, United Kingdom;X-APPLE-RADIUS=100;X-TITLE=Church House Inn (R
 attery):geo:50.4401899,-3.775626999999986
END:VEVENT
BEGIN:VTIMEZONE
TZID:Europe/London
X-LIC-LOCATION:Europe/London
BEGIN:STANDARD
DTSTART:20211031T010000
TZOFFSETFROM:+0100
TZOFFSETTO:+0000
TZNAME:GMT
END:STANDARD
END:VTIMEZONE
END:VCALENDAR