BEGIN:VCALENDAR
VERSION:2.0
PRODID:-//wp-events-plugin.com//7.2.3.1//EN
TZID:Europe/London
X-WR-TIMEZONE:Europe/London
BEGIN:VEVENT
UID:354@sh4.org.uk
DTSTART;TZID=Europe/London:20211201T193000
DTEND;TZID=Europe/London:20211201T223000
DTSTAMP:20211121T202314Z
URL:https://www.sh4.org.uk/events/hash-1321/
SUMMARY:South Hams H4 Hash 1321 - Ferry Boat Inn (Dittisham)
DESCRIPTION: - 
CATEGORIES:Hash Trails
LOCATION:Ferry Boat Inn (Dittisham) Ferry Boat Inn\, Manor Street \, Dittis
 ham\, Dartmouth\, TQ6 0EX
GEO:50.382283;-3.595697
X-APPLE-STRUCTURED-LOCATION;VALUE=URI;X-ADDRESS=Ferry Boat Inn\, Manor Stre
 et \, Dittisham\, Dartmouth\, TQ6 0EX\, United Kingdom;X-APPLE-RADIUS=100;
 X-TITLE=Ferry Boat Inn (Dittisham):geo:50.382283,-3.595697
END:VEVENT
BEGIN:VTIMEZONE
TZID:Europe/London
X-LIC-LOCATION:Europe/London
BEGIN:STANDARD
DTSTART:20211031T010000
TZOFFSETFROM:+0100
TZOFFSETTO:+0000
TZNAME:GMT
END:STANDARD
END:VTIMEZONE
END:VCALENDAR