BEGIN:VCALENDAR
VERSION:2.0
PRODID:-//wp-events-plugin.com//7.2.3.1//EN
TZID:Europe/London
X-WR-TIMEZONE:Europe/London
BEGIN:VEVENT
UID:361@sh4.org.uk
DTSTART;TZID=Europe/London:20220105T193000
DTEND;TZID=Europe/London:20220105T223000
DTSTAMP:20211227T193248Z
URL:https://www.sh4.org.uk/events/hash-1327-agpu/
SUMMARY:South Hams H4 Hash 1327 - AGPU - Wrangaton Golf Club
DESCRIPTION: - 
CATEGORIES:Hash Trails
LOCATION:Wrangaton Golf Club Golf Links Road\, Wrangaton\, Devon\, TQ10 9HJ
  
GEO:50.407774;-3.864095
X-APPLE-STRUCTURED-LOCATION;VALUE=URI;X-ADDRESS=Golf Links Road\, Wrangaton
 \, Devon\, TQ10 9HJ \, United Kingdom;X-APPLE-RADIUS=100;X-TITLE=Wrangaton
  Golf Club:geo:50.407774,-3.864095
END:VEVENT
BEGIN:VTIMEZONE
TZID:Europe/London
X-LIC-LOCATION:Europe/London
BEGIN:STANDARD
DTSTART:20211031T010000
TZOFFSETFROM:+0100
TZOFFSETTO:+0000
TZNAME:GMT
END:STANDARD
END:VTIMEZONE
END:VCALENDAR