BEGIN:VCALENDAR
VERSION:2.0
PRODID:-//wp-events-plugin.com//7.2.3.1//EN
TZID:Europe/London
X-WR-TIMEZONE:Europe/London
BEGIN:VEVENT
UID:365@sh4.org.uk
DTSTART;TZID=Europe/London:20220202T193000
DTEND;TZID=Europe/London:20220202T223000
DTSTAMP:20220126T101306Z
URL:https://www.sh4.org.uk/events/hash-1331/
SUMMARY:South Hams H4 Hash 1331 - Village Inn - Thurlestone
DESCRIPTION: - 
CATEGORIES:Hash Trails
LOCATION:Village Inn - Thurlestone The Village Inn\, Thurlestone\, England\
 , TQ7 3NN\, Devon
GEO:50.271017;-3.861496
X-APPLE-STRUCTURED-LOCATION;VALUE=URI;X-ADDRESS=The Village Inn\, Thurlesto
 ne\, England\, TQ7 3NN\, Devon\, United Kingdom;X-APPLE-RADIUS=100;X-TITLE
 =Village Inn - Thurlestone:geo:50.271017,-3.861496
END:VEVENT
BEGIN:VTIMEZONE
TZID:Europe/London
X-LIC-LOCATION:Europe/London
BEGIN:STANDARD
DTSTART:20211031T010000
TZOFFSETFROM:+0100
TZOFFSETTO:+0000
TZNAME:GMT
END:STANDARD
END:VTIMEZONE
END:VCALENDAR