BEGIN:VCALENDAR
VERSION:2.0
PRODID:-//wp-events-plugin.com//7.2.3.1//EN
TZID:Europe/London
X-WR-TIMEZONE:Europe/London
BEGIN:VEVENT
UID:367@sh4.org.uk
DTSTART;TZID=Europe/London:20220205T123000
DTEND;TZID=Europe/London:20220205T160000
DTSTAMP:20220130T161423Z
URL:https://www.sh4.org.uk/events/hash-1332-post-xmas-hash/
SUMMARY:South Hams H4 Hash 1332 - Post Xmas Hash - Elfordleigh Spa Hotel
DESCRIPTION: - 
CATEGORIES:Away Events,Hash Trails
LOCATION:Elfordleigh Spa Hotel Elfordleigh Hotel\, Colebrook Rd\, Plympton 
 \, Plymouth PL7 5EB\, PL7 5EB
GEO:50.413652;-4.046713
X-APPLE-STRUCTURED-LOCATION;VALUE=URI;X-ADDRESS=Elfordleigh Hotel\, Colebro
 ok Rd\, Plympton \, Plymouth PL7 5EB\, PL7 5EB\, United Kingdom;X-APPLE-RA
 DIUS=100;X-TITLE=Elfordleigh Spa Hotel:geo:50.413652,-4.046713
END:VEVENT
BEGIN:VTIMEZONE
TZID:Europe/London
X-LIC-LOCATION:Europe/London
BEGIN:STANDARD
DTSTART:20211031T010000
TZOFFSETFROM:+0100
TZOFFSETTO:+0000
TZNAME:GMT
END:STANDARD
END:VTIMEZONE
END:VCALENDAR