BEGIN:VCALENDAR
VERSION:2.0
PRODID:-//wp-events-plugin.com//7.2.3.1//EN
TZID:Europe/London
X-WR-TIMEZONE:Europe/London
BEGIN:VEVENT
UID:369@sh4.org.uk
DTSTART;TZID=Europe/London:20220223T193000
DTEND;TZID=Europe/London:20220223T223000
DTSTAMP:20220130T161947Z
URL:https://www.sh4.org.uk/events/hash-1336/
SUMMARY:South Hams H4 Hash 1336 - Loddiswell Inn
DESCRIPTION: - 
CATEGORIES:Hash Trails
LOCATION:Loddiswell Inn Loddiswell Inn\, Loddiswell\, England\, TQ7 4QJ\, D
 evon
GEO:50.322847;-3.799494
X-APPLE-STRUCTURED-LOCATION;VALUE=URI;X-ADDRESS=Loddiswell Inn\, Loddiswell
 \, England\, TQ7 4QJ\, Devon\, United Kingdom;X-APPLE-RADIUS=100;X-TITLE=L
 oddiswell Inn:geo:50.322847,-3.799494
END:VEVENT
BEGIN:VTIMEZONE
TZID:Europe/London
X-LIC-LOCATION:Europe/London
BEGIN:STANDARD
DTSTART:20211031T010000
TZOFFSETFROM:+0100
TZOFFSETTO:+0000
TZNAME:GMT
END:STANDARD
END:VTIMEZONE
END:VCALENDAR