BEGIN:VCALENDAR
VERSION:2.0
PRODID:-//wp-events-plugin.com//7.2.3.1//EN
TZID:Europe/London
X-WR-TIMEZONE:Europe/London
BEGIN:VEVENT
UID:374@sh4.org.uk
DTSTART;TZID=Europe/London:20220316T193000
DTEND;TZID=Europe/London:20220316T223000
DTSTAMP:20220302T145918Z
URL:https://www.sh4.org.uk/events/hash-1339/
SUMMARY:South Hams H4 Hash 1339 - Elburton Hotel\, Plymstock
DESCRIPTION: - 
CATEGORIES:Hash Trails
LOCATION:Elburton Hotel\, Plymstock 221 Elburton Rd\, Plymouth \, PL9 8HX
GEO:50.357153;-4.085555
X-APPLE-STRUCTURED-LOCATION;VALUE=URI;X-ADDRESS=221 Elburton Rd\, Plymouth 
 \, PL9 8HX\, United Kingdom;X-APPLE-RADIUS=100;X-TITLE=Elburton Hotel\, Pl
 ymstock:geo:50.357153,-4.085555
END:VEVENT
BEGIN:VTIMEZONE
TZID:Europe/London
X-LIC-LOCATION:Europe/London
BEGIN:STANDARD
DTSTART:20211031T010000
TZOFFSETFROM:+0100
TZOFFSETTO:+0000
TZNAME:GMT
END:STANDARD
END:VTIMEZONE
END:VCALENDAR