BEGIN:VCALENDAR
VERSION:2.0
PRODID:-//wp-events-plugin.com//7.2.3.1//EN
TZID:Europe/London
X-WR-TIMEZONE:Europe/London
BEGIN:VEVENT
UID:389@sh4.org.uk
DTSTART;TZID=Europe/London:20220615T193000
DTEND;TZID=Europe/London:20220615T223000
DTSTAMP:20220516T211259Z
URL:https://www.sh4.org.uk/events/hash-1352/
SUMMARY:South Hams H4 Hash 1352 - The Westward Inn - Lee Mill
DESCRIPTION: - 
CATEGORIES:Hash Trails
LOCATION:The Westward Inn - Lee Mill The Westward Inn\, Lee Mill Bridge\, I
 vybridge \, Devon\, PL21 9EE
GEO:50.384829;-3.971725
X-APPLE-STRUCTURED-LOCATION;VALUE=URI;X-ADDRESS=The Westward Inn\, Lee Mill
  Bridge\, Ivybridge \, Devon\, PL21 9EE\, United Kingdom;X-APPLE-RADIUS=10
 0;X-TITLE=The Westward Inn - Lee Mill:geo:50.384829,-3.971725
END:VEVENT
BEGIN:VTIMEZONE
TZID:Europe/London
X-LIC-LOCATION:Europe/London
BEGIN:DAYLIGHT
DTSTART:20220327T020000
TZOFFSETFROM:+0000
TZOFFSETTO:+0100
TZNAME:BST
END:DAYLIGHT
END:VTIMEZONE
END:VCALENDAR