BEGIN:VCALENDAR
VERSION:2.0
PRODID:-//wp-events-plugin.com//7.2.3.1//EN
TZID:Europe/London
X-WR-TIMEZONE:Europe/London
BEGIN:VEVENT
UID:391@sh4.org.uk
DTSTART;TZID=Europe/London:20220625T113000
DTEND;TZID=Europe/London:20220625T160000
DTSTAMP:20220619T164023Z
URL:https://www.sh4.org.uk/events/hash-1354-summer-solstice/
SUMMARY:South Hams H4 Hash 1354 - Summer Solstice - Broadleigh Farm Park - 
 Stoke Gabriel
DESCRIPTION: - 
CATEGORIES:Hash Trails,Social Events
LOCATION:Broadleigh Farm Park - Stoke Gabriel Broadleigh Farm Caravan Park 
 \, Totnes \, TQ9 6PU
GEO:50.417205;-3.617234
X-APPLE-STRUCTURED-LOCATION;VALUE=URI;X-ADDRESS=Broadleigh Farm Caravan Par
 k \, Totnes \, TQ9 6PU\, United Kingdom;X-APPLE-RADIUS=100;X-TITLE=Broadle
 igh Farm Park - Stoke Gabriel:geo:50.417205,-3.617234
END:VEVENT
BEGIN:VTIMEZONE
TZID:Europe/London
X-LIC-LOCATION:Europe/London
BEGIN:DAYLIGHT
DTSTART:20220327T020000
TZOFFSETFROM:+0000
TZOFFSETTO:+0100
TZNAME:BST
END:DAYLIGHT
END:VTIMEZONE
END:VCALENDAR