BEGIN:VCALENDAR
VERSION:2.0
PRODID:-//wp-events-plugin.com//7.2.3.1//EN
TZID:Europe/London
X-WR-TIMEZONE:Europe/London
BEGIN:VEVENT
UID:392@sh4.org.uk
DTSTART;TZID=Europe/London:20220629T193000
DTEND;TZID=Europe/London:20220629T220000
DTSTAMP:20220621T182755Z
URL:https://www.sh4.org.uk/events/hash-1356/
SUMMARY:South Hams H4 Hash 1356 - Littlehempston - Tally Ho
DESCRIPTION: - 
CATEGORIES:Hash Trails
LOCATION:Littlehempston - Tally Ho Tally Ho\, Littlehempston\, Totnes \, De
 von\, TQ9 6LY
GEO:50.4518;-3.673703
X-APPLE-STRUCTURED-LOCATION;VALUE=URI;X-ADDRESS=Tally Ho\, Littlehempston\,
  Totnes \, Devon\, TQ9 6LY\, United Kingdom;X-APPLE-RADIUS=100;X-TITLE=Lit
 tlehempston - Tally Ho:geo:50.4518,-3.673703
END:VEVENT
BEGIN:VTIMEZONE
TZID:Europe/London
X-LIC-LOCATION:Europe/London
BEGIN:DAYLIGHT
DTSTART:20220327T020000
TZOFFSETFROM:+0000
TZOFFSETTO:+0100
TZNAME:BST
END:DAYLIGHT
END:VTIMEZONE
END:VCALENDAR