BEGIN:VCALENDAR
VERSION:2.0
PRODID:-//wp-events-plugin.com//7.2.3.1//EN
TZID:Europe/London
X-WR-TIMEZONE:Europe/London
BEGIN:VEVENT
UID:393@sh4.org.uk
DTSTART;TZID=Europe/London:20220706T193000
DTEND;TZID=Europe/London:20220706T220000
DTSTAMP:20220619T164858Z
URL:https://www.sh4.org.uk/events/hash-1357/
SUMMARY:South Hams H4 Hash 1357 - The New Inn
DESCRIPTION: - 
CATEGORIES:Hash Trails
LOCATION:The New Inn The New Inn\, Back Rd\, Moreleigh\, Totnes\, TQ9 7JH
GEO:50.361825;-3.735738
X-APPLE-STRUCTURED-LOCATION;VALUE=URI;X-ADDRESS=The New Inn\, Back Rd\, Mor
 eleigh\, Totnes\, TQ9 7JH\, United Kingdom;X-APPLE-RADIUS=100;X-TITLE=The 
 New Inn:geo:50.361825,-3.735738
END:VEVENT
BEGIN:VTIMEZONE
TZID:Europe/London
X-LIC-LOCATION:Europe/London
BEGIN:DAYLIGHT
DTSTART:20220327T020000
TZOFFSETFROM:+0000
TZOFFSETTO:+0100
TZNAME:BST
END:DAYLIGHT
END:VTIMEZONE
END:VCALENDAR