BEGIN:VCALENDAR
VERSION:2.0
PRODID:-//wp-events-plugin.com//7.2.3.1//EN
TZID:Europe/London
X-WR-TIMEZONE:Europe/London
BEGIN:VEVENT
UID:394@sh4.org.uk
DTSTART;TZID=Europe/London:20220713T193000
DTEND;TZID=Europe/London:20220713T220000
DTSTAMP:20220701T155852Z
URL:https://www.sh4.org.uk/events/hash-1358/
SUMMARY:South Hams H4 Hash 1358 - BBQ Hash - Thurlestone Sands Beach Car Pa
 rk
DESCRIPTION:On down at hare's house - On down at hare's house
CATEGORIES:BBQ Hash,Hash Trails
LOCATION:Thurlestone Sands Beach Car Park Beach Car Park\, South Milton\, E
 ngland\, TQ7 3JS\, Devon
GEO:50.262738;-3.85863
X-APPLE-STRUCTURED-LOCATION;VALUE=URI;X-ADDRESS=Beach Car Park\, South Milt
 on\, England\, TQ7 3JS\, Devon\, United Kingdom;X-APPLE-RADIUS=100;X-TITLE
 =Thurlestone Sands Beach Car Park:geo:50.262738,-3.85863
END:VEVENT
BEGIN:VTIMEZONE
TZID:Europe/London
X-LIC-LOCATION:Europe/London
BEGIN:DAYLIGHT
DTSTART:20220327T020000
TZOFFSETFROM:+0000
TZOFFSETTO:+0100
TZNAME:BST
END:DAYLIGHT
END:VTIMEZONE
END:VCALENDAR