BEGIN:VCALENDAR
VERSION:2.0
PRODID:-//wp-events-plugin.com//7.2.3.1//EN
TZID:Europe/London
X-WR-TIMEZONE:Europe/London
BEGIN:VEVENT
UID:395@sh4.org.uk
DTSTART;TZID=Europe/London:20220720T190000
DTEND;TZID=Europe/London:20220720T220000
DTSTAMP:20220619T165327Z
URL:https://www.sh4.org.uk/events/hash-1359/
SUMMARY:South Hams H4 Hash 1359 - Watkins Woods\, Woodleigh
DESCRIPTION:On Down at Loddiswell Inn - On Down at Loddiswell Inn
CATEGORIES:Hash Trails
LOCATION:Watkins Woods\, Woodleigh Watkins Woods\, Woodleigh\, Kingsbridge 
 TQ7 4DH\, TQ7 4DH
GEO:50.329094;-3.771692
X-APPLE-STRUCTURED-LOCATION;VALUE=URI;X-ADDRESS=Watkins Woods\, Woodleigh\,
  Kingsbridge TQ7 4DH\, TQ7 4DH\, United Kingdom;X-APPLE-RADIUS=100;X-TITLE
 =Watkins Woods\, Woodleigh:geo:50.329094,-3.771692
END:VEVENT
BEGIN:VTIMEZONE
TZID:Europe/London
X-LIC-LOCATION:Europe/London
BEGIN:DAYLIGHT
DTSTART:20220327T020000
TZOFFSETFROM:+0000
TZOFFSETTO:+0100
TZNAME:BST
END:DAYLIGHT
END:VTIMEZONE
END:VCALENDAR